BEGIN:VCALENDAR
VERSION:2.0
PRODID:-//Marion County Building Industry Association - ECPv6.15.20//NONSGML v1.0//EN
CALSCALE:GREGORIAN
METHOD:PUBLISH
X-WR-CALNAME:Marion County Building Industry Association
X-ORIGINAL-URL:https://mcbia.org
X-WR-CALDESC:Events for Marion County Building Industry Association
REFRESH-INTERVAL;VALUE=DURATION:PT1H
X-Robots-Tag:noindex
X-PUBLISHED-TTL:PT1H
BEGIN:VTIMEZONE
TZID:America/New_York
BEGIN:DAYLIGHT
TZOFFSETFROM:-0500
TZOFFSETTO:-0400
TZNAME:EDT
DTSTART:20250309T070000
END:DAYLIGHT
BEGIN:STANDARD
TZOFFSETFROM:-0400
TZOFFSETTO:-0500
TZNAME:EST
DTSTART:20251102T060000
END:STANDARD
BEGIN:DAYLIGHT
TZOFFSETFROM:-0500
TZOFFSETTO:-0400
TZNAME:EDT
DTSTART:20260308T070000
END:DAYLIGHT
BEGIN:STANDARD
TZOFFSETFROM:-0400
TZOFFSETTO:-0500
TZNAME:EST
DTSTART:20261101T060000
END:STANDARD
BEGIN:DAYLIGHT
TZOFFSETFROM:-0500
TZOFFSETTO:-0400
TZNAME:EDT
DTSTART:20270314T070000
END:DAYLIGHT
BEGIN:STANDARD
TZOFFSETFROM:-0400
TZOFFSETTO:-0500
TZNAME:EST
DTSTART:20271107T060000
END:STANDARD
END:VTIMEZONE
BEGIN:VEVENT
DTSTART;TZID=America/New_York:20260121T140000
DTEND;TZID=America/New_York:20260121T150000
DTSTAMP:20260419T084549
CREATED:20260121T181449Z
LAST-MODIFIED:20260121T181449Z
UID:10001376-1769004000-1769007600@mcbia.org
SUMMARY:E-committee
DESCRIPTION: Discussion of budget and financials please attend\nJoin Zoom Meeting\nhttps://us06web.zoom.us/j/83422300283?pwd=GNanzCNkdS384YbK6H5DUDAGDGQVKE.1&jst=2 (ID: 83422300283\, passcode: 159028)\nJoin by phone\n(US) +1 646-931-3860 (passcode: 159028)\nJoin using SIP\n83422300283@zoomcrc.com (passcode: 159028)\nJoining instructions: https://www.google.com/url?q=https://applications.zoom.us/addon/invitation/detail?meetingUuid%3Df1QbPkZKRSuzEcU8RBjojA%253D%253D%26signature%3D5b809bd14ecbe9cd3947afd16d67442fbf1d31262bcbfd267782caf9dbe3b30f%26v%3D1&sa=D&source=calendar&usg=AOvVaw3zkUO1xEQUi4XXrc0x_aZ7\nMeeting host: ADMIN@MCBIA.ORG \nJoin Zoom Meeting: https://us06web.zoom.us/j/83422300283?pwd=GNanzCNkdS384YbK6H5DUDAGDGQVKE.1&jst=2
URL:https://mcbia.org/event/e-committee-34/
LOCATION:Marion County Building Industry Association\, 707 NE 25th Ave\, Ocala\, FL\, United States
GEO:29.1934;-82.103184
X-APPLE-STRUCTURED-LOCATION;VALUE=URI;X-ADDRESS=Marion County Building Industry Association 707 NE 25th Ave Ocala FL United States;X-APPLE-RADIUS=500;X-TITLE=707 NE 25th Ave:geo:-82.103184,29.1934
END:VEVENT
BEGIN:VEVENT
DTSTART;TZID=America/New_York:20260121T150000
DTEND;TZID=America/New_York:20260121T170000
DTSTAMP:20260419T084549
CREATED:20260121T181449Z
LAST-MODIFIED:20260121T181449Z
UID:10001377-1769007600-1769014800@mcbia.org
SUMMARY:Board of Directors Meeting (In-Person)
DESCRIPTION:MCBIA Board meeting; monthly on the third Wednesday\nJoin Zoom Meeting\nhttps://us05web.zoom.us/j/84123004512?pwd=axboVkGavebskqYUfeSCkjSakwLRoZ.1&jst=2 (ID: 84123004512\, passcode: 662928)\nJoin by phone\n(US) +1 689-278-1000 (passcode: 662928)\nJoin using SIP\n84123004512@zoomcrc.com (passcode: 662928)\nJoining instructions: https://www.google.com/url?q=https://applications.zoom.us/addon/invitation/detail?meetingUuid%3DbAUAbTvHTnaJcWVOoWr54g%253D%253D%26signature%3D3b162524697b0ba3fd9ab19991a2a76526b7071eeef3d0cb5b0d64cc5efa06b4%26v%3D1&sa=D&source=calendar&usg=AOvVaw1O-zQKX8XS3-QiImx-ueFe\nMeeting host: ADMIN@MCBIA.ORG \nJoin Zoom Meeting: https://us05web.zoom.us/j/84123004512?pwd=axboVkGavebskqYUfeSCkjSakwLRoZ.1&jst=2 \nView meeting insights with Zoom AI Companion: https://us05web.zoom.us/launch/edl?muid=5155e853-ce1d-4d3c-b603-f6c828d0690e&from=gsuite
URL:https://mcbia.org/event/board-of-directors-meeting-in-person/
LOCATION:707 NE 25th Ave\, Ocala\, FL\, United States
GEO:29.198907;-82.087425
END:VEVENT
END:VCALENDAR