BEGIN:VCALENDAR
VERSION:2.0
PRODID:-//Marion County Building Industry Association - ECPv6.15.20//NONSGML v1.0//EN
CALSCALE:GREGORIAN
METHOD:PUBLISH
X-WR-CALNAME:Marion County Building Industry Association
X-ORIGINAL-URL:https://mcbia.org
X-WR-CALDESC:Events for Marion County Building Industry Association
REFRESH-INTERVAL;VALUE=DURATION:PT1H
X-Robots-Tag:noindex
X-PUBLISHED-TTL:PT1H
BEGIN:VTIMEZONE
TZID:America/New_York
BEGIN:DAYLIGHT
TZOFFSETFROM:-0500
TZOFFSETTO:-0400
TZNAME:EDT
DTSTART:20250309T070000
END:DAYLIGHT
BEGIN:STANDARD
TZOFFSETFROM:-0400
TZOFFSETTO:-0500
TZNAME:EST
DTSTART:20251102T060000
END:STANDARD
BEGIN:DAYLIGHT
TZOFFSETFROM:-0500
TZOFFSETTO:-0400
TZNAME:EDT
DTSTART:20260308T070000
END:DAYLIGHT
BEGIN:STANDARD
TZOFFSETFROM:-0400
TZOFFSETTO:-0500
TZNAME:EST
DTSTART:20261101T060000
END:STANDARD
BEGIN:DAYLIGHT
TZOFFSETFROM:-0500
TZOFFSETTO:-0400
TZNAME:EDT
DTSTART:20270314T070000
END:DAYLIGHT
BEGIN:STANDARD
TZOFFSETFROM:-0400
TZOFFSETTO:-0500
TZNAME:EST
DTSTART:20271107T060000
END:STANDARD
END:VTIMEZONE
BEGIN:VEVENT
DTSTART;TZID=America/New_York:20260428T113000
DTEND;TZID=America/New_York:20260428T133000
DTSTAMP:20260424T211418
CREATED:20260227T164413Z
LAST-MODIFIED:20260414T133659Z
UID:10001446-1777375800-1777383000@mcbia.org
SUMMARY:MCBIA General Membership Meeting
DESCRIPTION:Mayor Ben Marciano is the Guest speaker for this month.
URL:https://mcbia.org/event/mcbia-general-membership-meeting-37/
LOCATION:Heart of The Park\, 516 NE Sanchez Ave\, Ocala\, FL\, 34470\, United States
END:VEVENT
BEGIN:VEVENT
DTSTART;TZID=America/New_York:20260428T150000
DTEND;TZID=America/New_York:20260428T160000
DTSTAMP:20260424T211418
CREATED:20260227T164413Z
LAST-MODIFIED:20260317T210355Z
UID:10001447-1777388400-1777392000@mcbia.org
SUMMARY:Parade of Homes Meeting
DESCRIPTION:
URL:https://mcbia.org/event/parade-of-homes-meeting-13/
LOCATION:Prime Glazing North\, 3799 E Side Ct\, Inverness\, FL\, United States
GEO:28.856712;-82.371218
X-APPLE-STRUCTURED-LOCATION;VALUE=URI;X-ADDRESS=Prime Glazing North 3799 E Side Ct Inverness FL United States;X-APPLE-RADIUS=500;X-TITLE=3799 E Side Ct:geo:-82.371218,28.856712
END:VEVENT
BEGIN:VEVENT
DTSTART;TZID=America/New_York:20260430T083000
DTEND;TZID=America/New_York:20260430T150000
DTSTAMP:20260424T211418
CREATED:20260227T164413Z
LAST-MODIFIED:20260317T210355Z
UID:10001448-1777537800-1777561200@mcbia.org
SUMMARY:Student Interviews w/ MCBIA members
DESCRIPTION:
URL:https://mcbia.org/event/student-interviews-w-mcbia-members/
LOCATION:TBD
END:VEVENT
END:VCALENDAR