BEGIN:VCALENDAR
VERSION:2.0
PRODID:-//Marion County Building Industry Association - ECPv6.15.20//NONSGML v1.0//EN
CALSCALE:GREGORIAN
METHOD:PUBLISH
X-WR-CALNAME:Marion County Building Industry Association
X-ORIGINAL-URL:https://mcbia.org
X-WR-CALDESC:Events for Marion County Building Industry Association
REFRESH-INTERVAL;VALUE=DURATION:PT1H
X-Robots-Tag:noindex
X-PUBLISHED-TTL:PT1H
BEGIN:VTIMEZONE
TZID:America/New_York
BEGIN:DAYLIGHT
TZOFFSETFROM:-0500
TZOFFSETTO:-0400
TZNAME:EDT
DTSTART:20240310T070000
END:DAYLIGHT
BEGIN:STANDARD
TZOFFSETFROM:-0400
TZOFFSETTO:-0500
TZNAME:EST
DTSTART:20241103T060000
END:STANDARD
BEGIN:DAYLIGHT
TZOFFSETFROM:-0500
TZOFFSETTO:-0400
TZNAME:EDT
DTSTART:20250309T070000
END:DAYLIGHT
BEGIN:STANDARD
TZOFFSETFROM:-0400
TZOFFSETTO:-0500
TZNAME:EST
DTSTART:20251102T060000
END:STANDARD
BEGIN:DAYLIGHT
TZOFFSETFROM:-0500
TZOFFSETTO:-0400
TZNAME:EDT
DTSTART:20260308T070000
END:DAYLIGHT
BEGIN:STANDARD
TZOFFSETFROM:-0400
TZOFFSETTO:-0500
TZNAME:EST
DTSTART:20261101T060000
END:STANDARD
END:VTIMEZONE
BEGIN:VEVENT
DTSTART;TZID=America/New_York:20250807T073000
DTEND;TZID=America/New_York:20250807T090000
DTSTAMP:20260425T172739
CREATED:20250509T201720Z
LAST-MODIFIED:20250806T165909Z
UID:10001293-1754551800-1754557200@mcbia.org
SUMMARY:Builders Round Table Breakfast
DESCRIPTION:
URL:https://mcbia.org/event/builders-round-table-breakfast-41/
LOCATION:Ocala Golf Club\, 3130 E Silver Springs Blvd\, Ocala\, FL\, United States
GEO:29.193359;-82.093531
X-APPLE-STRUCTURED-LOCATION;VALUE=URI;X-ADDRESS=Ocala Golf Club 3130 E Silver Springs Blvd Ocala FL United States;X-APPLE-RADIUS=500;X-TITLE=3130 E Silver Springs Blvd:geo:-82.093531,29.193359
END:VEVENT
BEGIN:VEVENT
DTSTART;TZID=America/New_York:20250806T140000
DTEND;TZID=America/New_York:20250806T150000
DTSTAMP:20260425T172739
CREATED:20250509T201720Z
LAST-MODIFIED:20250805T164543Z
UID:10001292-1754488800-1754492400@mcbia.org
SUMMARY:Membership/ Sponsorship Committee
DESCRIPTION:Committee to meet and address membership/ sponsorship opportunities\nJoin with Google Meet: https://meet.google.com/kqv-oaex-dum\nOr dial: (US) +1 508-622-5697 PIN: 728152991#\nMore phone numbers: https://tel.meet/kqv-oaex-dum?pin=4875784194122&hs=7\nLearn more about Meet at: https://support.google.com/a/users/answer/9282720
URL:https://mcbia.org/event/membership-sponsorship-committee-7/
LOCATION:Marion County Building Industry Association\, 707 NE 25th Ave\, Ocala\, FL\, United States
GEO:29.1934;-82.103184
X-APPLE-STRUCTURED-LOCATION;VALUE=URI;X-ADDRESS=Marion County Building Industry Association 707 NE 25th Ave Ocala FL United States;X-APPLE-RADIUS=500;X-TITLE=707 NE 25th Ave:geo:-82.103184,29.1934
END:VEVENT
BEGIN:VEVENT
DTSTART;TZID=America/New_York:20250806T110000
DTEND;TZID=America/New_York:20250806T120000
DTSTAMP:20260425T172739
CREATED:20250530T024753Z
LAST-MODIFIED:20250530T024753Z
UID:10001309-1754478000-1754481600@mcbia.org
SUMMARY:Golf Tournament Comm Mtg
DESCRIPTION:Join with Google Meet: https://meet.google.com/von-ejkb-ukb\nOr dial: (US) +1 615-952-0590 PIN: 978002370#\nMore phone numbers: https://tel.meet/von-ejkb-ukb?pin=5252372414751&hs=7\nLearn more about Meet at: https://support.google.com/a/users/answer/9282720
URL:https://mcbia.org/event/golf-tournament-comm-mtg-10/
LOCATION:Marion County Building Industry Association\, 707 NE 25th Ave\, Ocala\, FL\, United States
GEO:29.1934;-82.103184
X-APPLE-STRUCTURED-LOCATION;VALUE=URI;X-ADDRESS=Marion County Building Industry Association 707 NE 25th Ave Ocala FL United States;X-APPLE-RADIUS=500;X-TITLE=707 NE 25th Ave:geo:-82.103184,29.1934
END:VEVENT
BEGIN:VEVENT
DTSTART;TZID=America/New_York:20250806T110000
DTEND;TZID=America/New_York:20250806T120000
DTSTAMP:20260425T172739
CREATED:20250509T201720Z
LAST-MODIFIED:20250528T021800Z
UID:10001291-1754478000-1754481600@mcbia.org
SUMMARY:Golf Tournament Comm Mtg
DESCRIPTION:Join with Google Meet: https://meet.google.com/von-ejkb-ukb\nOr dial: (US) +1 615-952-0590 PIN: 978002370#\nMore phone numbers: https://tel.meet/von-ejkb-ukb?pin=5252372414751&hs=7\nLearn more about Meet at: https://support.google.com/a/users/answer/9282720
URL:https://mcbia.org/event/golf-tournament-comm-mtg-7/
LOCATION:Marion County Building Industry Association\, 707 NE 25th Ave\, Ocala\, FL\, United States
GEO:29.1934;-82.103184
X-APPLE-STRUCTURED-LOCATION;VALUE=URI;X-ADDRESS=Marion County Building Industry Association 707 NE 25th Ave Ocala FL United States;X-APPLE-RADIUS=500;X-TITLE=707 NE 25th Ave:geo:-82.103184,29.1934
END:VEVENT
BEGIN:VEVENT
DTSTART;TZID=America/New_York:20250805T170000
DTEND;TZID=America/New_York:20250805T190000
DTSTAMP:20260425T172739
CREATED:20250507T194718Z
LAST-MODIFIED:20250803T161639Z
UID:10001288-1754413200-1754420400@mcbia.org
SUMMARY:Conjunction Junction
DESCRIPTION:Companies host social gathering to showcase their business; they can provide door prizes\, food and beverages\, in a relaxed atmosphere
URL:https://mcbia.org/event/conjunction-junction-22/
LOCATION:TBD
END:VEVENT
BEGIN:VEVENT
DTSTART;TZID=America/New_York:20250805T130000
DTEND;TZID=America/New_York:20250805T140000
DTSTAMP:20260425T172739
CREATED:20250514T211731Z
LAST-MODIFIED:20250804T163014Z
UID:10001296-1754398800-1754402400@mcbia.org
SUMMARY:MCBIA Government Affairs Committee Mtg
DESCRIPTION:Monthly Committee meeting to address concerns with City/County Government issues
URL:https://mcbia.org/event/mcbia-government-affairs-committee-mtg-8/
LOCATION:Marion County Building Industry Association\, 707 NE 25th Ave\, Ocala\, FL\, United States
GEO:29.1934;-82.103184
X-APPLE-STRUCTURED-LOCATION;VALUE=URI;X-ADDRESS=Marion County Building Industry Association 707 NE 25th Ave Ocala FL United States;X-APPLE-RADIUS=500;X-TITLE=707 NE 25th Ave:geo:-82.103184,29.1934
END:VEVENT
BEGIN:VEVENT
DTSTART;TZID=America/New_York:20250804T100000
DTEND;TZID=America/New_York:20250804T103000
DTSTAMP:20260425T172739
CREATED:20250506T194258Z
LAST-MODIFIED:20250519T223013Z
UID:10001287-1754301600-1754303400@mcbia.org
SUMMARY:Cornhole Committee Meeting
DESCRIPTION:
URL:https://mcbia.org/event/cornhole-committee-meeting-7/
LOCATION:Marion County Building Industry Association\, 707 NE 25th Ave\, Ocala\, FL\, United States
GEO:29.1934;-82.103184
X-APPLE-STRUCTURED-LOCATION;VALUE=URI;X-ADDRESS=Marion County Building Industry Association 707 NE 25th Ave Ocala FL United States;X-APPLE-RADIUS=500;X-TITLE=707 NE 25th Ave:geo:-82.103184,29.1934
END:VEVENT
BEGIN:VEVENT
DTSTART;TZID=America/New_York:20250730T093000
DTEND;TZID=America/New_York:20250730T110000
DTSTAMP:20260425T172739
CREATED:20250711T111608Z
LAST-MODIFIED:20250714T120255Z
UID:10001334-1753867800-1753873200@mcbia.org
SUMMARY:Ocali -  Construction Academy meeting
DESCRIPTION:Please come\, meet\, and discuss the possibilities.
URL:https://mcbia.org/event/ocali-construction-academy-meeting/
LOCATION:3850 W Anthony Rd\, Ocala\, FL\, United States
GEO:29.258909;-82.166961
END:VEVENT
BEGIN:VEVENT
DTSTART;TZID=America/New_York:20250722T113000
DTEND;TZID=America/New_York:20250722T133000
DTSTAMP:20260425T172739
CREATED:20250424T181603Z
LAST-MODIFIED:20250505T194423Z
UID:10001279-1753183800-1753191000@mcbia.org
SUMMARY:MCBIA General Membership Meeting
DESCRIPTION:Legislative Update w/ State Senator Stan McClain
URL:https://mcbia.org/event/mcbia-general-membership-meeting-27/
LOCATION:Ocala Golf Club\, 3130 E Silver Springs Blvd\, Ocala\, FL\, United States
GEO:29.193359;-82.093531
X-APPLE-STRUCTURED-LOCATION;VALUE=URI;X-ADDRESS=Ocala Golf Club 3130 E Silver Springs Blvd Ocala FL United States;X-APPLE-RADIUS=500;X-TITLE=3130 E Silver Springs Blvd:geo:-82.093531,29.193359
END:VEVENT
BEGIN:VEVENT
DTSTART;TZID=America/New_York:20250721T103000
DTEND;TZID=America/New_York:20250721T113000
DTSTAMP:20260425T172739
CREATED:20250422T174808Z
LAST-MODIFIED:20250721T133400Z
UID:10001278-1753093800-1753097400@mcbia.org
SUMMARY:By-Laws/ Policy Committee Meetings
DESCRIPTION:Join with Google Meet: https://meet.google.com/avw-rnhu-pns\nOr dial: (US) +1 912-712-1085 PIN: 501657092#\nMore phone numbers: https://tel.meet/avw-rnhu-pns?pin=8568393886034&hs=7\nLearn more about Meet at: https://support.google.com/a/users/answer/9282720
URL:https://mcbia.org/event/by-laws-policy-committee-meetings-13/
LOCATION:Marion County Building Industry Association\, 707 NE 25th Ave\, Ocala\, FL\, United States
GEO:29.1934;-82.103184
X-APPLE-STRUCTURED-LOCATION;VALUE=URI;X-ADDRESS=Marion County Building Industry Association 707 NE 25th Ave Ocala FL United States;X-APPLE-RADIUS=500;X-TITLE=707 NE 25th Ave:geo:-82.103184,29.1934
END:VEVENT
BEGIN:VEVENT
DTSTART;TZID=America/New_York:20250716T150000
DTEND;TZID=America/New_York:20250716T170000
DTSTAMP:20260425T172739
CREATED:20250417T164702Z
LAST-MODIFIED:20250421T174450Z
UID:10001274-1752678000-1752685200@mcbia.org
SUMMARY:Board of Directors Meeting
DESCRIPTION:MCBIA Board meeting; monthly on the third Wednesday
URL:https://mcbia.org/event/board-of-directors-meeting-42/
LOCATION:707 NE 25th Ave\, Ocala\, FL\, United States
GEO:29.198907;-82.087425
END:VEVENT
BEGIN:VEVENT
DTSTART;TZID=America/New_York:20250716T140000
DTEND;TZID=America/New_York:20250716T150000
DTSTAMP:20260425T172739
CREATED:20250417T164702Z
LAST-MODIFIED:20250421T174450Z
UID:10001275-1752674400-1752678000@mcbia.org
SUMMARY:E-committee
DESCRIPTION: Discussion of budget and financials
URL:https://mcbia.org/event/e-committee-33/
LOCATION:Marion County Building Industry Association\, 707 NE 25th Ave\, Ocala\, FL\, United States
GEO:29.1934;-82.103184
X-APPLE-STRUCTURED-LOCATION;VALUE=URI;X-ADDRESS=Marion County Building Industry Association 707 NE 25th Ave Ocala FL United States;X-APPLE-RADIUS=500;X-TITLE=707 NE 25th Ave:geo:-82.103184,29.1934
END:VEVENT
BEGIN:VEVENT
DTSTART;TZID=America/New_York:20250716T123000
DTEND;TZID=America/New_York:20250716T124500
DTSTAMP:20260425T172739
CREATED:20250417T164702Z
LAST-MODIFIED:20250519T223012Z
UID:10001273-1752669000-1752669900@mcbia.org
SUMMARY:Parade of Homes Meeting
DESCRIPTION:Join with Google Meet: https://meet.google.com/hya-cwkm-ugo\nOr dial: (US) +1 561-614-0342 PIN: 976502605#\nMore phone numbers: https://tel.meet/hya-cwkm-ugo?pin=8114876664917&hs=7\nLearn more about Meet at: https://support.google.com/a/users/answer/9282720
URL:https://mcbia.org/event/parade-of-homes-meeting-7/
LOCATION:Marion County Building Industry Association\, 707 NE 25th Ave\, Ocala\, FL\, United States
GEO:29.1934;-82.103184
X-APPLE-STRUCTURED-LOCATION;VALUE=URI;X-ADDRESS=Marion County Building Industry Association 707 NE 25th Ave Ocala FL United States;X-APPLE-RADIUS=500;X-TITLE=707 NE 25th Ave:geo:-82.103184,29.1934
END:VEVENT
BEGIN:VEVENT
DTSTART;TZID=America/New_York:20250716T113000
DTEND;TZID=America/New_York:20250716T133000
DTSTAMP:20260425T172739
CREATED:20250506T194258Z
LAST-MODIFIED:20250716T123202Z
UID:10001286-1752665400-1752672600@mcbia.org
SUMMARY:MCBIA General Membership Meeting
DESCRIPTION:SEBC is in July in Orlando
URL:https://mcbia.org/event/mcbia-general-membership-meeting-29/
LOCATION:Ocala Golf Club\, 3130 E Silver Springs Blvd\, Ocala\, FL\, United States
GEO:29.193359;-82.093531
X-APPLE-STRUCTURED-LOCATION;VALUE=URI;X-ADDRESS=Ocala Golf Club 3130 E Silver Springs Blvd Ocala FL United States;X-APPLE-RADIUS=500;X-TITLE=3130 E Silver Springs Blvd:geo:-82.093531,29.193359
END:VEVENT
BEGIN:VEVENT
DTSTART;TZID=America/New_York:20250710T153000
DTEND;TZID=America/New_York:20250710T163000
DTSTAMP:20260425T172739
CREATED:20250417T164700Z
LAST-MODIFIED:20250507T194717Z
UID:10001268-1752161400-1752165000@mcbia.org
SUMMARY:MCBIA Construction Academy Committee Mtg
DESCRIPTION:Meetings will be the second Thursday of each month at 3:30 pm to allow the teachers to attend.
URL:https://mcbia.org/event/mcbia-construction-academy-committee-mtg-20/
LOCATION:Marion County Building Industry Association\, 707 NE 25th Ave\, Ocala\, FL\, United States
GEO:29.1934;-82.103184
X-APPLE-STRUCTURED-LOCATION;VALUE=URI;X-ADDRESS=Marion County Building Industry Association 707 NE 25th Ave Ocala FL United States;X-APPLE-RADIUS=500;X-TITLE=707 NE 25th Ave:geo:-82.103184,29.1934
END:VEVENT
BEGIN:VEVENT
DTSTART;TZID=America/New_York:20250710T153000
DTEND;TZID=America/New_York:20250710T163000
DTSTAMP:20260425T172739
CREATED:20250411T153310Z
LAST-MODIFIED:20250414T160347Z
UID:10001258-1752161400-1752165000@mcbia.org
SUMMARY:MCBIA Construction Academy Committee Mtg
DESCRIPTION:Meetings will be the second Thursday of each month at 3:30 pm to allow the teachers to attend.
URL:https://mcbia.org/event/mcbia-construction-academy-committee-mtg-17/
LOCATION:Marion County Building Industry Association\, 707 NE 25th Ave\, Ocala\, FL\, United States
GEO:29.1934;-82.103184
X-APPLE-STRUCTURED-LOCATION;VALUE=URI;X-ADDRESS=Marion County Building Industry Association 707 NE 25th Ave Ocala FL United States;X-APPLE-RADIUS=500;X-TITLE=707 NE 25th Ave:geo:-82.103184,29.1934
END:VEVENT
BEGIN:VEVENT
DTSTART;TZID=America/New_York:20250710T140000
DTEND;TZID=America/New_York:20250710T150000
DTSTAMP:20260425T172739
CREATED:20250509T201719Z
LAST-MODIFIED:20250710T111516Z
UID:10001290-1752156000-1752159600@mcbia.org
SUMMARY:MCBIA Construction Academy Committee Mtg
DESCRIPTION:Meetings will be the second Thursday of each month at 2:00 pm.
URL:https://mcbia.org/event/mcbia-construction-academy-committee-mtg-22/
LOCATION:Marion County Building Industry Association\, 707 NE 25th Ave\, Ocala\, FL\, United States
GEO:29.1934;-82.103184
X-APPLE-STRUCTURED-LOCATION;VALUE=URI;X-ADDRESS=Marion County Building Industry Association 707 NE 25th Ave Ocala FL United States;X-APPLE-RADIUS=500;X-TITLE=707 NE 25th Ave:geo:-82.103184,29.1934
END:VEVENT
BEGIN:VEVENT
DTSTART;TZID=America/New_York:20250710T110000
DTEND;TZID=America/New_York:20250710T120000
DTSTAMP:20260425T172739
CREATED:20250628T085956Z
LAST-MODIFIED:20250710T111516Z
UID:10001328-1752145200-1752148800@mcbia.org
SUMMARY:Golf Tournament Comm Mtg
DESCRIPTION:
URL:https://mcbia.org/event/golf-tournament-comm-mtg-15/
LOCATION:Marion County Building Industry Association\, 707 NE 25th Ave\, Ocala\, FL\, United States
GEO:29.1934;-82.103184
X-APPLE-STRUCTURED-LOCATION;VALUE=URI;X-ADDRESS=Marion County Building Industry Association 707 NE 25th Ave Ocala FL United States;X-APPLE-RADIUS=500;X-TITLE=707 NE 25th Ave:geo:-82.103184,29.1934
END:VEVENT
BEGIN:VEVENT
DTSTART;TZID=America/New_York:20250710T110000
DTEND;TZID=America/New_York:20250710T120000
DTSTAMP:20260425T172739
CREATED:20250601T033149Z
LAST-MODIFIED:20250626T084529Z
UID:10001311-1752145200-1752148800@mcbia.org
SUMMARY:Golf Tournament Comm Mtg
DESCRIPTION:
URL:https://mcbia.org/event/golf-tournament-comm-mtg-12/
LOCATION:Marion County Building Industry Association\, 707 NE 25th Ave\, Ocala\, FL\, United States
GEO:29.1934;-82.103184
X-APPLE-STRUCTURED-LOCATION;VALUE=URI;X-ADDRESS=Marion County Building Industry Association 707 NE 25th Ave Ocala FL United States;X-APPLE-RADIUS=500;X-TITLE=707 NE 25th Ave:geo:-82.103184,29.1934
END:VEVENT
BEGIN:VEVENT
DTSTART;TZID=America/New_York:20250709T130000
DTEND;TZID=America/New_York:20250709T140000
DTSTAMP:20260425T172739
CREATED:20250411T153310Z
LAST-MODIFIED:20250709T110144Z
UID:10001256-1752066000-1752069600@mcbia.org
SUMMARY:Casino Night Comm mtg
DESCRIPTION:
URL:https://mcbia.org/event/casino-night-comm-mtg-17/
LOCATION:707 NE 25th Ave\, Ocala\, FL\, United States
GEO:29.198907;-82.087425
END:VEVENT
BEGIN:VEVENT
DTSTART;TZID=America/New_York:20250709T130000
DTEND;TZID=America/New_York:20250709T140000
DTSTAMP:20260425T172739
CREATED:20250411T153310Z
LAST-MODIFIED:20250602T034621Z
UID:10001257-1752066000-1752069600@mcbia.org
SUMMARY:Casino Night Comm mtg
DESCRIPTION:
URL:https://mcbia.org/event/casino-night-comm-mtg-18/
LOCATION:707 NE 25th Ave\, Ocala\, FL\, United States
GEO:29.198907;-82.087425
END:VEVENT
BEGIN:VEVENT
DTSTART;TZID=America/New_York:20250708T173000
DTEND;TZID=America/New_York:20250708T180000
DTSTAMP:20260425T172739
CREATED:20250411T153309Z
LAST-MODIFIED:20250708T105325Z
UID:10001255-1751995800-1751997600@mcbia.org
SUMMARY:License Review Board
DESCRIPTION:Join with Google Meet: https://meet.google.com/nsc-eyok-nvb\nOr dial: (US) +1 262-607-9121 PIN: 220433164#\nMore phone numbers: https://tel.meet/nsc-eyok-nvb?pin=2271122590751&hs=7\nLearn more about Meet at: https://support.google.com/a/users/answer/9282720
URL:https://mcbia.org/event/license-review-board-23/
LOCATION:Growth Services Room – 2710 E. Silver Springs Blvd.\, Ocala.
END:VEVENT
BEGIN:VEVENT
DTSTART;TZID=America/New_York:20250708T140000
DTEND;TZID=America/New_York:20250708T153000
DTSTAMP:20260425T172739
CREATED:20250611T051946Z
LAST-MODIFIED:20250708T105325Z
UID:10001316-1751983200-1751988600@mcbia.org
SUMMARY:Florida Feast Meeting
DESCRIPTION:Discussion of event planning and sponsors
URL:https://mcbia.org/event/florida-feast-meeting-10/
LOCATION:Tillman & Associates Engineering\, 1698 SE 16th Ave\, Ocala\, FL\, United States
GEO:29.171623;-82.116558
X-APPLE-STRUCTURED-LOCATION;VALUE=URI;X-ADDRESS=Tillman & Associates Engineering 1698 SE 16th Ave Ocala FL United States;X-APPLE-RADIUS=500;X-TITLE=1698 SE 16th Ave:geo:-82.116558,29.171623
END:VEVENT
BEGIN:VEVENT
DTSTART;TZID=America/New_York:20250708T140000
DTEND;TZID=America/New_York:20250708T150000
DTSTAMP:20260425T172739
CREATED:20250411T153309Z
LAST-MODIFIED:20250429T184351Z
UID:10001254-1751983200-1751986800@mcbia.org
SUMMARY:MCBIA Government Affairs Committee Mtg
DESCRIPTION:Monthly Committee meeting to address concerns with City/County Government issues
URL:https://mcbia.org/event/mcbia-government-affairs-committee-mtg-7/
LOCATION:Marion County Building Industry Association\, 707 NE 25th Ave\, Ocala\, FL\, United States
GEO:29.1934;-82.103184
X-APPLE-STRUCTURED-LOCATION;VALUE=URI;X-ADDRESS=Marion County Building Industry Association 707 NE 25th Ave Ocala FL United States;X-APPLE-RADIUS=500;X-TITLE=707 NE 25th Ave:geo:-82.103184,29.1934
END:VEVENT
BEGIN:VEVENT
DTSTART;TZID=America/New_York:20250708T130000
DTEND;TZID=America/New_York:20250708T140000
DTSTAMP:20260425T172739
CREATED:20250411T153309Z
LAST-MODIFIED:20250609T050145Z
UID:10001253-1751979600-1751983200@mcbia.org
SUMMARY:Florida Feast Meeting
DESCRIPTION:
URL:https://mcbia.org/event/florida-feast-meeting-8/
LOCATION:MCBIA\, 707 NE 25th Ave\, Ocala\, FL\, 34470\, United States
END:VEVENT
BEGIN:VEVENT
DTSTART;TZID=America/New_York:20250708T130000
DTEND;TZID=America/New_York:20250708T140000
DTSTAMP:20260425T172739
CREATED:20250411T153308Z
LAST-MODIFIED:20250708T105324Z
UID:10001252-1751979600-1751983200@mcbia.org
SUMMARY:MCBIA Government Affairs Committee Mtg
DESCRIPTION:Monthly Committee meeting to address concerns with City/County Government issues
URL:https://mcbia.org/event/mcbia-government-affairs-committee-mtg-6/
LOCATION:Marion County Building Industry Association\, 707 NE 25th Ave\, Ocala\, FL\, United States
GEO:29.1934;-82.103184
X-APPLE-STRUCTURED-LOCATION;VALUE=URI;X-ADDRESS=Marion County Building Industry Association 707 NE 25th Ave Ocala FL United States;X-APPLE-RADIUS=500;X-TITLE=707 NE 25th Ave:geo:-82.103184,29.1934
END:VEVENT
BEGIN:VEVENT
DTSTART;TZID=America/New_York:20250707T100000
DTEND;TZID=America/New_York:20250707T103000
DTSTAMP:20260425T172739
CREATED:20250408T145950Z
LAST-MODIFIED:20250519T223011Z
UID:10001248-1751882400-1751884200@mcbia.org
SUMMARY:Cornhole Committee Meeting
DESCRIPTION:
URL:https://mcbia.org/event/cornhole-committee-meeting-6/
LOCATION:Marion County Building Industry Association\, 707 NE 25th Ave\, Ocala\, FL\, United States
GEO:29.1934;-82.103184
X-APPLE-STRUCTURED-LOCATION;VALUE=URI;X-ADDRESS=Marion County Building Industry Association 707 NE 25th Ave Ocala FL United States;X-APPLE-RADIUS=500;X-TITLE=707 NE 25th Ave:geo:-82.103184,29.1934
END:VEVENT
BEGIN:VEVENT
DTSTART;TZID=America/New_York:20250703T073000
DTEND;TZID=America/New_York:20250703T090000
DTSTAMP:20260425T172739
CREATED:20250404T140215Z
LAST-MODIFIED:20250702T093151Z
UID:10001247-1751527800-1751533200@mcbia.org
SUMMARY:Builders Round Table Breakfast
DESCRIPTION:
URL:https://mcbia.org/event/builders-round-table-breakfast-40/
LOCATION:Ocala Golf Club\, 3130 E Silver Springs Blvd\, Ocala\, FL\, United States
GEO:29.193359;-82.093531
X-APPLE-STRUCTURED-LOCATION;VALUE=URI;X-ADDRESS=Ocala Golf Club 3130 E Silver Springs Blvd Ocala FL United States;X-APPLE-RADIUS=500;X-TITLE=3130 E Silver Springs Blvd:geo:-82.093531,29.193359
END:VEVENT
BEGIN:VEVENT
DTSTART;TZID=America/New_York:20250702T140000
DTEND;TZID=America/New_York:20250702T150000
DTSTAMP:20260425T172739
CREATED:20250404T140214Z
LAST-MODIFIED:20250701T091543Z
UID:10001246-1751464800-1751468400@mcbia.org
SUMMARY:Membership/ Sponsorship Committee
DESCRIPTION:Committee to meet and address membership/ sponsorship opportunities\nJoin with Google Meet: https://meet.google.com/kqv-oaex-dum\nOr dial: (US) +1 508-622-5697 PIN: 728152991#\nMore phone numbers: https://tel.meet/kqv-oaex-dum?pin=4875784194122&hs=7\nLearn more about Meet at: https://support.google.com/a/users/answer/9282720
URL:https://mcbia.org/event/membership-sponsorship-committee-6/
LOCATION:Marion County Building Industry Association\, 707 NE 25th Ave\, Ocala\, FL\, United States
GEO:29.1934;-82.103184
X-APPLE-STRUCTURED-LOCATION;VALUE=URI;X-ADDRESS=Marion County Building Industry Association 707 NE 25th Ave Ocala FL United States;X-APPLE-RADIUS=500;X-TITLE=707 NE 25th Ave:geo:-82.103184,29.1934
END:VEVENT
BEGIN:VEVENT
DTSTART;TZID=America/New_York:20250702T123000
DTEND;TZID=America/New_York:20250702T133000
DTSTAMP:20260425T172739
CREATED:20250404T140214Z
LAST-MODIFIED:20250429T184350Z
UID:10001245-1751459400-1751463000@mcbia.org
SUMMARY:Parade of Homes (2nd monthly meeting)
DESCRIPTION:Lucinda wants to meet twice a month\nJoin with Google Meet: https://meet.google.com/pte-qwxd-uue\nOr dial: (US) +1 573-738-8704 PIN: 186231996#\nMore phone numbers: https://tel.meet/pte-qwxd-uue?pin=2929029377448&hs=7\nLearn more about Meet at: https://support.google.com/a/users/answer/9282720
URL:https://mcbia.org/event/parade-of-homes-2nd-monthly-meeting-8/
LOCATION:Marion County Building Industry Association\, 707 NE 25th Ave\, Ocala\, FL\, United States
GEO:29.1934;-82.103184
X-APPLE-STRUCTURED-LOCATION;VALUE=URI;X-ADDRESS=Marion County Building Industry Association 707 NE 25th Ave Ocala FL United States;X-APPLE-RADIUS=500;X-TITLE=707 NE 25th Ave:geo:-82.103184,29.1934
END:VEVENT
END:VCALENDAR