BEGIN:VCALENDAR
VERSION:2.0
PRODID:-//Marion County Building Industry Association - ECPv6.15.20//NONSGML v1.0//EN
CALSCALE:GREGORIAN
METHOD:PUBLISH
X-ORIGINAL-URL:https://mcbia.org
X-WR-CALDESC:Events for Marion County Building Industry Association
REFRESH-INTERVAL;VALUE=DURATION:PT1H
X-Robots-Tag:noindex
X-PUBLISHED-TTL:PT1H
BEGIN:VTIMEZONE
TZID:America/New_York
BEGIN:DAYLIGHT
TZOFFSETFROM:-0500
TZOFFSETTO:-0400
TZNAME:EDT
DTSTART:20220313T070000
END:DAYLIGHT
BEGIN:STANDARD
TZOFFSETFROM:-0400
TZOFFSETTO:-0500
TZNAME:EST
DTSTART:20221106T060000
END:STANDARD
BEGIN:DAYLIGHT
TZOFFSETFROM:-0500
TZOFFSETTO:-0400
TZNAME:EDT
DTSTART:20230312T070000
END:DAYLIGHT
BEGIN:STANDARD
TZOFFSETFROM:-0400
TZOFFSETTO:-0500
TZNAME:EST
DTSTART:20231105T060000
END:STANDARD
BEGIN:DAYLIGHT
TZOFFSETFROM:-0500
TZOFFSETTO:-0400
TZNAME:EDT
DTSTART:20240310T070000
END:DAYLIGHT
BEGIN:STANDARD
TZOFFSETFROM:-0400
TZOFFSETTO:-0500
TZNAME:EST
DTSTART:20241103T060000
END:STANDARD
BEGIN:DAYLIGHT
TZOFFSETFROM:-0500
TZOFFSETTO:-0400
TZNAME:EDT
DTSTART:20250309T070000
END:DAYLIGHT
BEGIN:STANDARD
TZOFFSETFROM:-0400
TZOFFSETTO:-0500
TZNAME:EST
DTSTART:20251102T060000
END:STANDARD
BEGIN:DAYLIGHT
TZOFFSETFROM:-0500
TZOFFSETTO:-0400
TZNAME:EDT
DTSTART:20260308T070000
END:DAYLIGHT
BEGIN:STANDARD
TZOFFSETFROM:-0400
TZOFFSETTO:-0500
TZNAME:EST
DTSTART:20261101T060000
END:STANDARD
END:VTIMEZONE
BEGIN:VEVENT
DTSTART;TZID=America/New_York:20250811T073000
DTEND;TZID=America/New_York:20250811T090000
DTSTAMP:20260425T125434
CREATED:20250514T211730Z
LAST-MODIFIED:20250603T040037Z
UID:10001295-1754897400-1754902800@mcbia.org
SUMMARY:Exec Board meet w/ Bldg Official
DESCRIPTION:MCBIA Executive Board will meet with Mike Savage\, Director of Building Safety for Marion County.\n \nHope to see you on Monday morning.
URL:https://mcbia.org/event/exec-board-meet-w-bldg-official-36/
LOCATION:Darryls Restaurant   3375 E. Silver Springs Blvd.  #103  Ocala\, FL
END:VEVENT
BEGIN:VEVENT
DTSTART;TZID=America/New_York:20250811T073000
DTEND;TZID=America/New_York:20250811T090000
DTSTAMP:20260425T125434
CREATED:20250514T211730Z
LAST-MODIFIED:20250603T040037Z
UID:10001294-1754897400-1754902800@mcbia.org
SUMMARY:Exec Board meet w/ County Bldg Official
DESCRIPTION: \nMCBIA Executive Board will meet with Mike Savage\, Director of Building Safety for Marion County.\n \nHope to see you on Monday morning.
URL:https://mcbia.org/event/exec-board-meet-w-county-bldg-official-14/
LOCATION:Darryls Restaurant   3375 E. Silver Springs Blvd.  #103  Ocala\, FL
END:VEVENT
BEGIN:VEVENT
DTSTART;TZID=America/New_York:20250210T073000
DTEND;TZID=America/New_York:20250210T090000
DTSTAMP:20260425T125434
CREATED:20241113T091734Z
LAST-MODIFIED:20241231T191536Z
UID:10000998-1739172600-1739178000@mcbia.org
SUMMARY:Exec Board meet w/ Bldg Official
DESCRIPTION:MCBIA Executive Board will meet with Mike Savage\, Director of Building Safety for Marion County.\n \nHope to see you on Monday morning.
URL:https://mcbia.org/event/exec-board-meet-w-bldg-official-30/
LOCATION:Darryls Restaurant   3375 E. Silver Springs Blvd.  #103  Ocala\, FL
END:VEVENT
BEGIN:VEVENT
DTSTART;TZID=America/New_York:20250113T073000
DTEND;TZID=America/New_York:20250113T090000
DTSTAMP:20260425T125434
CREATED:20241015T024839Z
LAST-MODIFIED:20250112T213040Z
UID:10000983-1736753400-1736758800@mcbia.org
SUMMARY:Exec Board meet w/ Bldg Official
DESCRIPTION:MCBIA Executive Board will meet with Mike Savage\, Director of Building Safety for Marion County.\n \nHope to see you on Monday morning.
URL:https://mcbia.org/event/exec-board-meet-w-bldg-official-29/
LOCATION:Darryls Restaurant   3375 E. Silver Springs Blvd.  #103  Ocala\, FL
END:VEVENT
BEGIN:VEVENT
DTSTART;TZID=America/New_York:20241209T073000
DTEND;TZID=America/New_York:20241209T090000
DTSTAMP:20260425T125434
CREATED:20241206T134614Z
LAST-MODIFIED:20241207T134945Z
UID:10001018-1733729400-1733734800@mcbia.org
SUMMARY:Exec Board meet w/ County Bldg Official
DESCRIPTION: \nMCBIA Executive Board will meet with Mike Savage\, Director of Building Safety for Marion County.\n \nHope to see you on Monday morning.\nJoin with Google Meet: https://meet.google.com/udz-uiij-vxn\nOr dial: (US) +1 336-891-2158 PIN: 704948902#\nMore phone numbers: https://tel.meet/udz-uiij-vxn?pin=3762049593580&hs=7\nLearn more about Meet at: https://support.google.com/a/users/answer/9282720
URL:https://mcbia.org/event/exec-board-meet-w-county-bldg-official/
LOCATION:Darryls Restaurant   3375 E. Silver Springs Blvd.  #103  Ocala\, FL
END:VEVENT
BEGIN:VEVENT
DTSTART;TZID=America/New_York:20241209T073000
DTEND;TZID=America/New_York:20241209T090000
DTSTAMP:20260425T125434
CREATED:20241014T024559Z
LAST-MODIFIED:20241202T124708Z
UID:10000980-1733729400-1733734800@mcbia.org
SUMMARY:Exec Board meet w/ Bldg Official
DESCRIPTION:MCBIA Executive Board will meet with Mike Savage\, Director of Building Safety for Marion County.\n \nHope to see you on Monday morning.
URL:https://mcbia.org/event/exec-board-meet-w-bldg-official-28/
LOCATION:Darryls Restaurant   3375 E. Silver Springs Blvd.  #103  Ocala\, FL
END:VEVENT
BEGIN:VEVENT
DTSTART;TZID=America/New_York:20241209T073000
DTEND;TZID=America/New_York:20241209T090000
DTSTAMP:20260425T125434
CREATED:20240910T173014Z
LAST-MODIFIED:20241009T233432Z
UID:10000951-1733729400-1733734800@mcbia.org
SUMMARY:Exec Board meet w/ Bldg Official
DESCRIPTION:MCBIA Executive Board will meet with Mike Savage\, Director of Building Safety for Marion County.\n \nHope to see you on Monday morning.
URL:https://mcbia.org/event/exec-board-meet-w-bldg-official-24/
LOCATION:Darryls Restaurant   3375 E. Silver Springs Blvd.  #103  Ocala\, FL
END:VEVENT
BEGIN:VEVENT
DTSTART;TZID=America/New_York:20241118T073000
DTEND;TZID=America/New_York:20241118T090000
DTSTAMP:20260425T125434
CREATED:20241014T024558Z
LAST-MODIFIED:20241118T101429Z
UID:10000979-1731915000-1731920400@mcbia.org
SUMMARY:Exec Board meet w/ Bldg Official
DESCRIPTION:Meeting is rescheduled because of the Veterans Day holiday.\n \nMCBIA Executive Board will meet with Mike Savage\, Director of Building Safety for Marion County.\n \nHope to see you on Monday morning.
URL:https://mcbia.org/event/exec-board-meet-w-bldg-official-27/
LOCATION:Darryls Restaurant   3375 E. Silver Springs Blvd.  #103  Ocala\, FL
END:VEVENT
BEGIN:VEVENT
DTSTART;TZID=America/New_York:20241111T073000
DTEND;TZID=America/New_York:20241111T090000
DTSTAMP:20260425T125434
CREATED:20240813T074619Z
LAST-MODIFIED:20241009T233431Z
UID:10000934-1731310200-1731315600@mcbia.org
SUMMARY:Exec Board meet w/ Bldg Official
DESCRIPTION:MCBIA Executive Board will meet with Mike Savage\, Director of Building Safety for Marion County.\n \nHope to see you on Monday morning.
URL:https://mcbia.org/event/exec-board-meet-w-bldg-official-23/
LOCATION:Darryls Restaurant   3375 E. Silver Springs Blvd.  #103  Ocala\, FL
END:VEVENT
BEGIN:VEVENT
DTSTART;TZID=America/New_York:20241014T073000
DTEND;TZID=America/New_York:20241014T090000
DTSTAMP:20260425T125434
CREATED:20241014T024557Z
LAST-MODIFIED:20241014T024557Z
UID:10000978-1728891000-1728896400@mcbia.org
SUMMARY:Exec Board meet w/ Bldg Official
DESCRIPTION:MCBIA Executive Board will meet with Mike Savage\, Director of Building Safety for Marion County.\n \nHope to see you on Monday morning.\n \nThis is your reminder…have a great weekend
URL:https://mcbia.org/event/exec-board-meet-w-bldg-official-26/
LOCATION:Darryls Restaurant   3375 E. Silver Springs Blvd.  #103  Ocala\, FL
END:VEVENT
BEGIN:VEVENT
DTSTART;TZID=America/New_York:20241014T073000
DTEND;TZID=America/New_York:20241014T090000
DTSTAMP:20260425T125434
CREATED:20241014T024557Z
LAST-MODIFIED:20241014T024557Z
UID:10000977-1728891000-1728896400@mcbia.org
SUMMARY:Exec Board meet w/ Bldg Official
DESCRIPTION:MCBIA Executive Board will meet with Mike Savage\, Director of Building Safety for Marion County.\n \nHope to see you on Monday morning.
URL:https://mcbia.org/event/exec-board-meet-w-bldg-official-25/
LOCATION:Darryls Restaurant   3375 E. Silver Springs Blvd.  #103  Ocala\, FL
END:VEVENT
BEGIN:VEVENT
DTSTART;TZID=America/New_York:20241014T073000
DTEND;TZID=America/New_York:20241014T090000
DTSTAMP:20260425T125434
CREATED:20240721T000535Z
LAST-MODIFIED:20241009T233430Z
UID:10000919-1728891000-1728896400@mcbia.org
SUMMARY:Exec Board meet w/ Bldg Official
DESCRIPTION:MCBIA Executive Board will meet with Mike Savage\, Director of Building Safety for Marion County.\n \nHope to see you on Monday morning.\n \nThis is your reminder…have a great weekend
URL:https://mcbia.org/event/exec-board-meet-w-bldg-official-22/
LOCATION:Darryls Restaurant   3375 E. Silver Springs Blvd.  #103  Ocala\, FL
END:VEVENT
BEGIN:VEVENT
DTSTART;TZID=America/New_York:20240909T073000
DTEND;TZID=America/New_York:20240909T090000
DTSTAMP:20260425T125434
CREATED:20240702T203350Z
LAST-MODIFIED:20240908T170434Z
UID:10000909-1725867000-1725872400@mcbia.org
SUMMARY:Exec Board meet w/ Bldg Official
DESCRIPTION:MCBIA Executive Board will meet with Mike Savage\, Director of Building Safety for Marion County.\n \nHope to see you on Monday morning.
URL:https://mcbia.org/event/exec-board-meet-w-bldg-official-21/
LOCATION:Darryls Restaurant   3375 E. Silver Springs Blvd.  #103  Ocala\, FL
END:VEVENT
BEGIN:VEVENT
DTSTART;TZID=America/New_York:20240812T073000
DTEND;TZID=America/New_York:20240812T090000
DTSTAMP:20260425T125434
CREATED:20240702T203348Z
LAST-MODIFIED:20240809T070032Z
UID:10000908-1723447800-1723453200@mcbia.org
SUMMARY:Exec Board meet w/ Bldg Official
DESCRIPTION:MCBIA Executive Board will meet with Mike Savage\, Director of Building Safety for Marion County.\n \nHope to see you on Monday morning.
URL:https://mcbia.org/event/exec-board-meet-w-bldg-official-20/
LOCATION:Darryls Restaurant   3375 E. Silver Springs Blvd.  #103  Ocala\, FL
END:VEVENT
BEGIN:VEVENT
DTSTART;TZID=America/New_York:20240812T073000
DTEND;TZID=America/New_York:20240812T090000
DTSTAMP:20260425T125434
CREATED:20240514T061724Z
LAST-MODIFIED:20240629T194746Z
UID:10000862-1723447800-1723453200@mcbia.org
SUMMARY:Exec Board meet w/ Bldg Official
DESCRIPTION:MCBIA Executive Board will meet with Mike Savage\, Director of Building Safety for Marion County.\n \nHope to see you on Monday morning.
URL:https://mcbia.org/event/exec-board-meet-w-bldg-official-17/
LOCATION:Darryls Restaurant   3375 E. Silver Springs Blvd.  #103  Ocala\, FL
END:VEVENT
BEGIN:VEVENT
DTSTART;TZID=America/New_York:20240708T073000
DTEND;TZID=America/New_York:20240708T090000
DTSTAMP:20260425T125434
CREATED:20240702T203346Z
LAST-MODIFIED:20240707T211826Z
UID:10000907-1720423800-1720429200@mcbia.org
SUMMARY:Exec Board meet w/ Bldg Official
DESCRIPTION:MCBIA Executive Board will meet with Mike Savage\, Director of Building Safety for Marion County.\n \nHope to see you on Monday morning.
URL:https://mcbia.org/event/exec-board-meet-w-bldg-official-19/
LOCATION:Darryls Restaurant   3375 E. Silver Springs Blvd.  #103  Ocala\, FL
END:VEVENT
BEGIN:VEVENT
DTSTART;TZID=America/New_York:20240708T073000
DTEND;TZID=America/New_York:20240708T090000
DTSTAMP:20260425T125434
CREATED:20240409T211619Z
LAST-MODIFIED:20240629T194745Z
UID:10000836-1720423800-1720429200@mcbia.org
SUMMARY:Exec Board meet w/ Bldg Official
DESCRIPTION:MCBIA Executive Board will meet with Mike Savage\, Director of Building Safety for Marion County.\n \nHope to see you on Monday morning.
URL:https://mcbia.org/event/exec-board-meet-w-bldg-official-16/
LOCATION:Darryls Restaurant   3375 E. Silver Springs Blvd.  #103  Ocala\, FL
END:VEVENT
BEGIN:VEVENT
DTSTART;TZID=America/New_York:20240610T073000
DTEND;TZID=America/New_York:20240610T090000
DTSTAMP:20260425T125434
CREATED:20240314T233649Z
LAST-MODIFIED:20240610T110504Z
UID:10000816-1718004600-1718010000@mcbia.org
SUMMARY:Exec Board meet w/ Bldg Official
DESCRIPTION:MCBIA Executive Board will meet with Mike Savage\, Director of Building Safety for Marion County.\n \nHope to see you on Monday morning.
URL:https://mcbia.org/event/exec-board-meet-w-bldg-official-15/
LOCATION:Darryls Restaurant   3375 E. Silver Springs Blvd.  #103  Ocala\, FL
END:VEVENT
BEGIN:VEVENT
DTSTART;TZID=America/New_York:20240513T073000
DTEND;TZID=America/New_York:20240513T090000
DTSTAMP:20260425T125434
CREATED:20240222T194738Z
LAST-MODIFIED:20240511T054818Z
UID:10000796-1715585400-1715590800@mcbia.org
SUMMARY:Exec Board meet w/ Bldg Official
DESCRIPTION:MCBIA Executive Board will meet with Mike Savage\, Director of Building Safety for Marion County.\n \nHope to see you on Monday morning.
URL:https://mcbia.org/event/exec-board-meet-w-bldg-official-14/
LOCATION:Darryls Restaurant   3375 E. Silver Springs Blvd.  #103  Ocala\, FL
END:VEVENT
BEGIN:VEVENT
DTSTART;TZID=America/New_York:20240513T073000
DTEND;TZID=America/New_York:20240513T090000
DTSTAMP:20260425T125434
CREATED:20240213T175046Z
LAST-MODIFIED:20240220T191804Z
UID:10000779-1715585400-1715590800@mcbia.org
SUMMARY:Exec Board meet w/ Bldg Official
DESCRIPTION:MCBIA Executive Board will meet with Mike Savage\, Director of Building Safety for Marion County.\n \nHope to see you on Monday morning.
URL:https://mcbia.org/event/exec-board-meet-w-bldg-official-12/
LOCATION:Darryls Restaurant   3375 E. Silver Springs Blvd.  #103  Ocala\, FL
END:VEVENT
BEGIN:VEVENT
DTSTART;TZID=America/New_York:20240408T073000
DTEND;TZID=America/New_York:20240408T090000
DTSTAMP:20260425T125434
CREATED:20240222T194735Z
LAST-MODIFIED:20240406T204430Z
UID:10000795-1712561400-1712566800@mcbia.org
SUMMARY:Exec Board meet w/ Bldg Official
DESCRIPTION:MCBIA Executive Board will meet with Mike Savage\, Director of Building Safety for Marion County.\n \nHope to see you on Monday morning.
URL:https://mcbia.org/event/exec-board-meet-w-bldg-official-13/
LOCATION:Darryls Restaurant   3375 E. Silver Springs Blvd.  #103  Ocala\, FL
END:VEVENT
BEGIN:VEVENT
DTSTART;TZID=America/New_York:20240408T073000
DTEND;TZID=America/New_York:20240408T090000
DTSTAMP:20260425T125434
CREATED:20240212T173239Z
LAST-MODIFIED:20240220T191801Z
UID:10000774-1712561400-1712566800@mcbia.org
SUMMARY:Exec Board meet w/ Bldg Official
DESCRIPTION:MCBIA Executive Board will meet with Mike Savage\, Director of Building Safety for Marion County.\n \nHope to see you on Monday morning.
URL:https://mcbia.org/event/exec-board-meet-w-bldg-official-11/
LOCATION:Darryls Restaurant   3375 E. Silver Springs Blvd.  #103  Ocala\, FL
END:VEVENT
BEGIN:VEVENT
DTSTART;TZID=America/New_York:20240408T073000
DTEND;TZID=America/New_York:20240408T090000
DTSTAMP:20260425T125434
CREATED:20240110T115940Z
LAST-MODIFIED:20240208T164644Z
UID:10000745-1712561400-1712566800@mcbia.org
SUMMARY:Exec Board meet w/ Bldg Official
DESCRIPTION:MCBIA Executive Board will meet with Mike Savage\, Director of Building Safety for Marion County.\n \nHope to see you on Monday morning.
URL:https://mcbia.org/event/exec-board-meet-w-bldg-official-9/
LOCATION:Darryls Restaurant   3375 E. Silver Springs Blvd.  #103  Ocala\, FL
END:VEVENT
BEGIN:VEVENT
DTSTART;TZID=America/New_York:20240311T073000
DTEND;TZID=America/New_York:20240311T090000
DTSTAMP:20260425T125434
CREATED:20240212T173238Z
LAST-MODIFIED:20240309T224452Z
UID:10000773-1710142200-1710147600@mcbia.org
SUMMARY:Exec Board meet w/ Bldg Official
DESCRIPTION:MCBIA Executive Board will meet with Mike Savage\, Director of Building Safety for Marion County.\n \nHope to see you on Monday morning.
URL:https://mcbia.org/event/exec-board-meet-w-bldg-official-10/
LOCATION:Darryls Restaurant   3375 E. Silver Springs Blvd.  #103  Ocala\, FL
END:VEVENT
BEGIN:VEVENT
DTSTART;TZID=America/New_York:20240311T073000
DTEND;TZID=America/New_York:20240311T090000
DTSTAMP:20260425T125434
CREATED:20231212T064812Z
LAST-MODIFIED:20240208T164642Z
UID:10000716-1710142200-1710147600@mcbia.org
SUMMARY:Exec Board meet w/ Bldg Official
DESCRIPTION:MCBIA Executive Board will meet with Mike Savage\, Director of Building Safety for Marion County.\n \nHope to see you on Monday morning.
URL:https://mcbia.org/event/exec-board-meet-w-bldg-official-8/
LOCATION:Darryls Restaurant   3375 E. Silver Springs Blvd.  #103  Ocala\, FL
END:VEVENT
BEGIN:VEVENT
DTSTART;TZID=America/New_York:20240212T073000
DTEND;TZID=America/New_York:20240212T090000
DTSTAMP:20260425T125434
CREATED:20231114T023052Z
LAST-MODIFIED:20240208T164640Z
UID:10000694-1707723000-1707728400@mcbia.org
SUMMARY:Exec Board meet w/ Bldg Official
DESCRIPTION:MCBIA Executive Board will meet with Mike Savage\, Director of Building Safety for Marion County.\n \nHope to see you on Monday morning.
URL:https://mcbia.org/event/exec-board-meet-w-bldg-official-7/
LOCATION:Darryls Restaurant   3375 E. Silver Springs Blvd.  #103  Ocala\, FL
END:VEVENT
BEGIN:VEVENT
DTSTART;TZID=America/New_York:20240108T073000
DTEND;TZID=America/New_York:20240108T090000
DTSTAMP:20260425T125434
CREATED:20231011T072942Z
LAST-MODIFIED:20240108T114548Z
UID:10000661-1704699000-1704704400@mcbia.org
SUMMARY:Exec Board meet w/ Bldg Official
DESCRIPTION:MCBIA Executive Board will meet with Mike Savage\, Director of Building Safety for Marion County.\n \nHope to see you on Monday morning.
URL:https://mcbia.org/event/exec-board-meet-w-bldg-official-6/
LOCATION:Darryls Restaurant   3375 E. Silver Springs Blvd.  #103  Ocala\, FL
END:VEVENT
BEGIN:VEVENT
DTSTART;TZID=America/New_York:20231211T073000
DTEND;TZID=America/New_York:20231211T090000
DTSTAMP:20260425T125434
CREATED:20230912T032926Z
LAST-MODIFIED:20231211T063139Z
UID:10000642-1702279800-1702285200@mcbia.org
SUMMARY:Exec Board meet w/ Bldg Official
DESCRIPTION:MCBIA Executive Board will meet with Mike Savage\, Director of Building Safety for Marion County.\n \nHope to see you on Monday morning.
URL:https://mcbia.org/event/exec-board-meet-w-bldg-official-5/
LOCATION:Darryls Restaurant   3375 E. Silver Springs Blvd.  #103  Ocala\, FL
END:VEVENT
BEGIN:VEVENT
DTSTART;TZID=America/New_York:20231113T073000
DTEND;TZID=America/New_York:20231113T090000
DTSTAMP:20260425T125434
CREATED:20230815T205054Z
LAST-MODIFIED:20231113T021748Z
UID:10000630-1699860600-1699866000@mcbia.org
SUMMARY:Exec Board meet w/ Bldg Official
DESCRIPTION:MCBIA Executive Board will meet with Mike Savage\, Director of Building Safety for Marion County.\n \nHope to see you on Monday morning.
URL:https://mcbia.org/event/exec-board-meet-w-bldg-official-4/
LOCATION:Darryls Restaurant   3375 E. Silver Springs Blvd.  #103  Ocala\, FL
END:VEVENT
BEGIN:VEVENT
DTSTART;TZID=America/New_York:20231016T073000
DTEND;TZID=America/New_York:20231016T090000
DTSTAMP:20260425T125434
CREATED:20230810T211640Z
LAST-MODIFIED:20231015T191735Z
UID:10000620-1697441400-1697446800@mcbia.org
SUMMARY:Exec Board meet w/ Bldg Official
DESCRIPTION:MCBIA Executive Board will meet with Mike Savage\, Director of Building Safety for Marion County.\n \nHope to see you on Monday morning.
URL:https://mcbia.org/event/exec-board-meet-w-bldg-official-3/
LOCATION:Darryls Restaurant   3375 E. Silver Springs Blvd.  #103  Ocala\, FL
END:VEVENT
END:VCALENDAR