BEGIN:VCALENDAR
VERSION:2.0
PRODID:-//Marion County Building Industry Association - ECPv6.15.20//NONSGML v1.0//EN
CALSCALE:GREGORIAN
METHOD:PUBLISH
X-WR-CALNAME:Marion County Building Industry Association
X-ORIGINAL-URL:https://mcbia.org
X-WR-CALDESC:Events for Marion County Building Industry Association
REFRESH-INTERVAL;VALUE=DURATION:PT1H
X-Robots-Tag:noindex
X-PUBLISHED-TTL:PT1H
BEGIN:VTIMEZONE
TZID:America/New_York
BEGIN:DAYLIGHT
TZOFFSETFROM:-0500
TZOFFSETTO:-0400
TZNAME:EDT
DTSTART:20230312T070000
END:DAYLIGHT
BEGIN:STANDARD
TZOFFSETFROM:-0400
TZOFFSETTO:-0500
TZNAME:EST
DTSTART:20231105T060000
END:STANDARD
BEGIN:DAYLIGHT
TZOFFSETFROM:-0500
TZOFFSETTO:-0400
TZNAME:EDT
DTSTART:20240310T070000
END:DAYLIGHT
BEGIN:STANDARD
TZOFFSETFROM:-0400
TZOFFSETTO:-0500
TZNAME:EST
DTSTART:20241103T060000
END:STANDARD
BEGIN:DAYLIGHT
TZOFFSETFROM:-0500
TZOFFSETTO:-0400
TZNAME:EDT
DTSTART:20250309T070000
END:DAYLIGHT
BEGIN:STANDARD
TZOFFSETFROM:-0400
TZOFFSETTO:-0500
TZNAME:EST
DTSTART:20251102T060000
END:STANDARD
END:VTIMEZONE
BEGIN:VEVENT
DTSTART;TZID=America/New_York:20240813T130000
DTEND;TZID=America/New_York:20240813T140000
DTSTAMP:20260420T063202
CREATED:20240515T063436Z
LAST-MODIFIED:20240528T091143Z
UID:10000863-1723554000-1723557600@mcbia.org
SUMMARY:MCBIA Workforce Committee Mtg
DESCRIPTION:It appears that we have been approved; we will meet to discuss next steps.
URL:https://mcbia.org/event/mcbia-workforce-committee-mtg-27/
LOCATION:Marion County Building Industry Association\, 707 NE 25th Ave\, Ocala\, FL 34470\, USA
END:VEVENT
BEGIN:VEVENT
DTSTART;TZID=America/New_York:20240807T140000
DTEND;TZID=America/New_York:20240807T150000
DTSTAMP:20260420T063202
CREATED:20240525T083159Z
LAST-MODIFIED:20240806T062134Z
UID:10000874-1723039200-1723042800@mcbia.org
SUMMARY:E-committee
DESCRIPTION:Date change – Denise on vacation; later in the month.\nDiscussion of attendance\, and revision of Board members commitment both time and financial\nFundraiser committee?
URL:https://mcbia.org/event/e-committee-18/
LOCATION:Marion County Building Industry Association\, 707 NE 25th Ave\, Ocala\, FL 34470\, USA
END:VEVENT
BEGIN:VEVENT
DTSTART;TZID=America/New_York:20240806T130000
DTEND;TZID=America/New_York:20240806T140000
DTSTAMP:20260420T063202
CREATED:20240529T092136Z
LAST-MODIFIED:20240728T035127Z
UID:10000879-1722949200-1722952800@mcbia.org
SUMMARY:MCBIA Workforce Committee Mtg
DESCRIPTION:DATE CHANGE PER DENISE ALEXANDER
URL:https://mcbia.org/event/mcbia-workforce-committee-mtg-29/
LOCATION:Marion County Building Industry Association\, 707 NE 25th Ave\, Ocala\, FL 34470\, USA
END:VEVENT
BEGIN:VEVENT
DTSTART;TZID=America/New_York:20240711T110000
DTEND;TZID=America/New_York:20240711T130000
DTSTAMP:20260420T063202
CREATED:20240418T233106Z
LAST-MODIFIED:20240429T033132Z
UID:10000849-1720695600-1720702800@mcbia.org
SUMMARY:KOW Meeting
DESCRIPTION:We need to determine sponsorship levels and participation sheets
URL:https://mcbia.org/event/kow-meeting-24/
LOCATION:Marion County Building Industry Association\, 707 NE 25th Ave\, Ocala\, FL 34470\, USA
END:VEVENT
BEGIN:VEVENT
DTSTART;TZID=America/New_York:20240711T110000
DTEND;TZID=America/New_York:20240711T130000
DTSTAMP:20260420T063202
CREATED:20240412T220552Z
LAST-MODIFIED:20240417T231707Z
UID:10000839-1720695600-1720702800@mcbia.org
SUMMARY:KOW Meeting
DESCRIPTION:We need to determine sponsorship levels and participation sheets
URL:https://mcbia.org/event/kow-meeting-21/
LOCATION:Marion County Building Industry Association\, 707 NE 25th Ave\, Ocala\, FL 34470\, USA
END:VEVENT
BEGIN:VEVENT
DTSTART;TZID=America/New_York:20240710T140000
DTEND;TZID=America/New_York:20240710T150000
DTSTAMP:20260420T063202
CREATED:20240418T233106Z
LAST-MODIFIED:20240709T213612Z
UID:10000851-1720620000-1720623600@mcbia.org
SUMMARY:E-committee
DESCRIPTION:Date change – conflict with Candidate Debate
URL:https://mcbia.org/event/e-committee-15/
LOCATION:Marion County Building Industry Association\, 707 NE 25th Ave\, Ocala\, FL 34470\, USA
END:VEVENT
BEGIN:VEVENT
DTSTART;TZID=America/New_York:20240709T130000
DTEND;TZID=America/New_York:20240709T140000
DTSTAMP:20260420T063203
CREATED:20240529T092135Z
LAST-MODIFIED:20240707T211826Z
UID:10000878-1720530000-1720533600@mcbia.org
SUMMARY:MCBIA Workforce Committee Mtg
DESCRIPTION:It appears that we have been approved; we will meet to discuss next steps.
URL:https://mcbia.org/event/mcbia-workforce-committee-mtg-28/
LOCATION:Marion County Building Industry Association\, 707 NE 25th Ave\, Ocala\, FL 34470\, USA
END:VEVENT
BEGIN:VEVENT
DTSTART;TZID=America/New_York:20240709T130000
DTEND;TZID=America/New_York:20240709T140000
DTSTAMP:20260420T063203
CREATED:20240412T220551Z
LAST-MODIFIED:20240528T091141Z
UID:10000837-1720530000-1720533600@mcbia.org
SUMMARY:MCBIA Workforce Committee Mtg
DESCRIPTION:It appears that we have been approved; we will meet to discuss next steps.
URL:https://mcbia.org/event/mcbia-workforce-committee-mtg-26/
LOCATION:Marion County Building Industry Association\, 707 NE 25th Ave\, Ocala\, FL 34470\, USA
END:VEVENT
BEGIN:VEVENT
DTSTART;TZID=America/New_York:20240619T140000
DTEND;TZID=America/New_York:20240619T150000
DTSTAMP:20260420T063203
CREATED:20240525T083157Z
LAST-MODIFIED:20240618T173223Z
UID:10000871-1718805600-1718809200@mcbia.org
SUMMARY:E-committee
DESCRIPTION:* PLEASE NOTE CHANGE OF LOCATION \nIn an effort to coordinate days and times\,  the Executive Board meetings to 2:00 PM\, on the 3rd Wednesday of every month;  the same day as the Regular Board meetings.
URL:https://mcbia.org/event/e-committee-16/
LOCATION:Marion County Building Industry Association\, 707 NE 25th Ave\, Ocala\, FL 34470\, USA
END:VEVENT
BEGIN:VEVENT
DTSTART;TZID=America/New_York:20240613T110000
DTEND;TZID=America/New_York:20240613T130000
DTSTAMP:20260420T063203
CREATED:20240418T233104Z
LAST-MODIFIED:20240429T033131Z
UID:10000847-1718276400-1718283600@mcbia.org
SUMMARY:KOW Meeting
DESCRIPTION:We need to determine sponsorship levels and participation sheets
URL:https://mcbia.org/event/kow-meeting-23/
LOCATION:Marion County Building Industry Association\, 707 NE 25th Ave\, Ocala\, FL 34470\, USA
END:VEVENT
BEGIN:VEVENT
DTSTART;TZID=America/New_York:20240613T110000
DTEND;TZID=America/New_York:20240613T130000
DTSTAMP:20260420T063203
CREATED:20240315T234723Z
LAST-MODIFIED:20240417T231705Z
UID:10000819-1718276400-1718283600@mcbia.org
SUMMARY:KOW Meeting
DESCRIPTION:We need to determine sponsorship levels and participation sheets
URL:https://mcbia.org/event/kow-meeting-20/
LOCATION:Marion County Building Industry Association\, 707 NE 25th Ave\, Ocala\, FL 34470\, USA
END:VEVENT
BEGIN:VEVENT
DTSTART;TZID=America/New_York:20240611T130000
DTEND;TZID=America/New_York:20240611T140000
DTSTAMP:20260420T063203
CREATED:20240314T233649Z
LAST-MODIFIED:20240611T112539Z
UID:10000817-1718110800-1718114400@mcbia.org
SUMMARY:MCBIA Workforce Committee Mtg
DESCRIPTION:It appears that we have been approved; we will meet to discuss next steps.
URL:https://mcbia.org/event/mcbia-workforce-committee-mtg-24/
LOCATION:Marion County Building Industry Association\, 707 NE 25th Ave\, Ocala\, FL 34470\, USA
END:VEVENT
BEGIN:VEVENT
DTSTART;TZID=America/New_York:20240610T114500
DTEND;TZID=America/New_York:20240610T131500
DTSTAMP:20260420T063203
CREATED:20240601T094441Z
LAST-MODIFIED:20240610T110504Z
UID:10000883-1718019900-1718025300@mcbia.org
SUMMARY:Shanai - Online training
DESCRIPTION:Online training for NAHB; in office\nJoin with Google Meet: https://meet.google.com/tfh-ikcn-hrb\nOr dial: (US) +1 732-630-8080 PIN: 588669201#\nMore phone numbers: https://tel.meet/tfh-ikcn-hrb?pin=1144834533238&hs=7\nLearn more about Meet at: https://support.google.com/a/users/answer/9282720
URL:https://mcbia.org/event/shanai-online-training/
LOCATION:Marion County Building Industry Association\, 707 NE 25th Ave\, Ocala\, FL 34470\, USA
END:VEVENT
BEGIN:VEVENT
DTSTART;TZID=America/New_York:20240610T100000
DTEND;TZID=America/New_York:20240610T110000
DTSTAMP:20260420T063203
CREATED:20240601T094441Z
LAST-MODIFIED:20240610T110504Z
UID:10000882-1718013600-1718017200@mcbia.org
SUMMARY:Corn Hole Committee Meeting
DESCRIPTION:Committee meeting to decide sponsorships\nJoin with Google Meet: https://meet.google.com/wev-oeyr-eiq\nOr dial: (US) +1 567-281-8037 PIN: 123285470#\nMore phone numbers: https://tel.meet/wev-oeyr-eiq?pin=8951318472524&hs=7\nLearn more about Meet at: https://support.google.com/a/users/answer/9282720
URL:https://mcbia.org/event/corn-hole-committee-meeting/
LOCATION:Marion County Building Industry Association\, 707 NE 25th Ave\, Ocala\, FL 34470\, USA
END:VEVENT
BEGIN:VEVENT
DTSTART;TZID=America/New_York:20240523T130000
DTEND;TZID=America/New_York:20240523T140000
DTSTAMP:20260420T063203
CREATED:20240223T195904Z
LAST-MODIFIED:20240325T034646Z
UID:10000797-1716469200-1716472800@mcbia.org
SUMMARY:KOW Committee Meeting - 2024
DESCRIPTION:*Please note time of meeting change; conflict with schedules\n \nMCBIA Board has asked us to consider Tuesday\, March 26\, 2024 for the date\, and they would like us to stay in the downtown Ocala location\, with some changes to the set up.  \nScott Olschewske and Allen Curry will Co-chair this year.\n \nReminder of meeting\nJoin with Google Meet: https://meet.google.com/sje-spij-euq\nOr dial: (US) +1 505-445-7226 PIN: 170852369#\nMore phone numbers: https://tel.meet/sje-spij-euq?pin=8901246823923&hs=7\nLearn more about Meet at: https://support.google.com/a/users/answer/9282720
URL:https://mcbia.org/event/kow-committee-meeting-2024-9/
LOCATION:Marion County Building Industry Association\, 707 NE 25th Ave\, Ocala\, FL 34470\, USA
END:VEVENT
BEGIN:VEVENT
DTSTART;TZID=America/New_York:20240522T140000
DTEND;TZID=America/New_York:20240522T150000
DTSTAMP:20260420T063203
CREATED:20240215T181534Z
LAST-MODIFIED:20240519T073354Z
UID:10000791-1716386400-1716390000@mcbia.org
SUMMARY:E-committee
DESCRIPTION:Date change because of MCBIA After Hours event.\n \nIn an effort to coordinate days and times\,  the Executive Board meetings to 2:00 PM\, on the 3rd Wednesday of every month;  the same day as the Regular Board meetings.
URL:https://mcbia.org/event/e-committee-13/
LOCATION:Marion County Building Industry Association\, 707 NE 25th Ave\, Ocala\, FL 34470\, USA
END:VEVENT
BEGIN:VEVENT
DTSTART;TZID=America/New_York:20240521T123000
DTEND;TZID=America/New_York:20240521T130000
DTSTAMP:20260420T063203
CREATED:20240518T071954Z
LAST-MODIFIED:20240521T080156Z
UID:10000869-1716294600-1716296400@mcbia.org
SUMMARY:2025 Golf Committee
DESCRIPTION:Join with Google Meet: https://meet.google.com/ipg-xsmf-ptk\nOr dial: (US) +1 505-979-5392 PIN: 366907438#\nMore phone numbers: https://tel.meet/ipg-xsmf-ptk?pin=6058501795455&hs=7\nLearn more about Meet at: https://support.google.com/a/users/answer/9282720
URL:https://mcbia.org/event/2025-golf-committee/
LOCATION:Marion County Building Industry Association\, 707 NE 25th Ave\, Ocala\, FL 34470\, USA
END:VEVENT
BEGIN:VEVENT
DTSTART;TZID=America/New_York:20240521T110000
DTEND;TZID=America/New_York:20240521T123000
DTSTAMP:20260420T063203
CREATED:20240518T071954Z
LAST-MODIFIED:20240521T080156Z
UID:10000868-1716289200-1716294600@mcbia.org
SUMMARY:Parade of Homes
DESCRIPTION:Categories for judging\nReview magazine\nJoin with Google Meet: https://meet.google.com/goz-gggc-qhf\nOr dial: (US) +1 609-800-2205 PIN: 715983590#\nMore phone numbers: https://tel.meet/goz-gggc-qhf?pin=7266428037775&hs=7\nLearn more about Meet at: https://support.google.com/a/users/answer/9282720
URL:https://mcbia.org/event/parade-of-homes/
LOCATION:Marion County Building Industry Association\, 707 NE 25th Ave\, Ocala\, FL 34470\, USA
END:VEVENT
BEGIN:VEVENT
DTSTART;TZID=America/New_York:20240516T090000
DTEND;TZID=America/New_York:20240516T100000
DTSTAMP:20260420T063203
CREATED:20240217T184453Z
LAST-MODIFIED:20240228T210106Z
UID:10000792-1715850000-1715853600@mcbia.org
SUMMARY:Casino Night Committee Meeting
DESCRIPTION:Sponsorship levels; raffle prizes\, prizes for discussion
URL:https://mcbia.org/event/casino-night-committee-meeting-23/
LOCATION:Marion County Building Industry Association\, 707 NE 25th Ave\, Ocala\, FL 34470\, USA
END:VEVENT
BEGIN:VEVENT
DTSTART;TZID=America/New_York:20240514T130000
DTEND;TZID=America/New_York:20240514T140000
DTSTAMP:20260420T063203
CREATED:20240227T204552Z
LAST-MODIFIED:20240514T061721Z
UID:10000803-1715691600-1715695200@mcbia.org
SUMMARY:MCBIA Workforce Committee Mtg
DESCRIPTION:It appears that we have been approved; we will meet to discuss next steps.
URL:https://mcbia.org/event/mcbia-workforce-committee-mtg-21/
LOCATION:Marion County Building Industry Association\, 707 NE 25th Ave\, Ocala\, FL 34470\, USA
END:VEVENT
BEGIN:VEVENT
DTSTART;TZID=America/New_York:20240514T130000
DTEND;TZID=America/New_York:20240514T140000
DTSTAMP:20260420T063203
CREATED:20240214T180139Z
LAST-MODIFIED:20240223T195903Z
UID:10000782-1715691600-1715695200@mcbia.org
SUMMARY:MCBIA Workforce Committee Mtg
DESCRIPTION:Waiting on approval of ACT application; Habitat for Humanity response; W/C insurance questions
URL:https://mcbia.org/event/mcbia-workforce-committee-mtg-19/
LOCATION:Marion County Building Industry Association\, 707 NE 25th Ave\, Ocala\, FL 34470\, USA
END:VEVENT
BEGIN:VEVENT
DTSTART;TZID=America/New_York:20240509T110000
DTEND;TZID=America/New_York:20240509T130000
DTSTAMP:20260420T063203
CREATED:20240418T233102Z
LAST-MODIFIED:20240429T033129Z
UID:10000844-1715252400-1715259600@mcbia.org
SUMMARY:KOW Meeting
DESCRIPTION:We need to determine sponsorship levels and participation sheets
URL:https://mcbia.org/event/kow-meeting-22/
LOCATION:Marion County Building Industry Association\, 707 NE 25th Ave\, Ocala\, FL 34470\, USA
END:VEVENT
BEGIN:VEVENT
DTSTART;TZID=America/New_York:20240509T110000
DTEND;TZID=America/New_York:20240509T130000
DTSTAMP:20260420T063203
CREATED:20240227T204551Z
LAST-MODIFIED:20240417T231701Z
UID:10000802-1715252400-1715259600@mcbia.org
SUMMARY:KOW Meeting
DESCRIPTION:We need to determine sponsorship levels and participation sheets
URL:https://mcbia.org/event/kow-meeting-18/
LOCATION:Marion County Building Industry Association\, 707 NE 25th Ave\, Ocala\, FL 34470\, USA
END:VEVENT
BEGIN:VEVENT
DTSTART;TZID=America/New_York:20240502T090000
DTEND;TZID=America/New_York:20240502T100000
DTSTAMP:20260420T063203
CREATED:20240215T181532Z
LAST-MODIFIED:20240228T210104Z
UID:10000789-1714640400-1714644000@mcbia.org
SUMMARY:Casino Night Committee Meeting
DESCRIPTION:Sponsorship levels; raffle prizes\, prizes for discussion
URL:https://mcbia.org/event/casino-night-committee-meeting-22/
LOCATION:Marion County Building Industry Association\, 707 NE 25th Ave\, Ocala\, FL 34470\, USA
END:VEVENT
BEGIN:VEVENT
DTSTART;TZID=America/New_York:20240419T130000
DTEND;TZID=America/New_York:20240419T140000
DTSTAMP:20260420T063203
CREATED:20240415T225938Z
LAST-MODIFIED:20240418T233101Z
UID:10000840-1713531600-1713535200@mcbia.org
SUMMARY:Meeting - Hudson Furniture
DESCRIPTION:Calendar conflict; need to change the time of the meeting; sorry for the inconvenience.
URL:https://mcbia.org/event/meeting-hudson-furniture/
LOCATION:Marion County Building Industry Association\, 707 NE 25th Ave\, Ocala\, FL 34470\, USA
END:VEVENT
BEGIN:VEVENT
DTSTART;TZID=America/New_York:20240418T090000
DTEND;TZID=America/New_York:20240418T100000
DTSTAMP:20260420T063203
CREATED:20240215T181532Z
LAST-MODIFIED:20240318T022050Z
UID:10000788-1713430800-1713434400@mcbia.org
SUMMARY:Casino Night Committee Meeting
DESCRIPTION:Sponsorship levels; raffle prizes\, prizes for discussion
URL:https://mcbia.org/event/casino-night-committee-meeting-21/
LOCATION:Marion County Building Industry Association\, 707 NE 25th Ave\, Ocala\, FL 34470\, USA
END:VEVENT
BEGIN:VEVENT
DTSTART;TZID=America/New_York:20240417T130000
DTEND;TZID=America/New_York:20240417T140000
DTSTAMP:20260420T063203
CREATED:20240321T025953Z
LAST-MODIFIED:20240416T230226Z
UID:10000824-1713358800-1713362400@mcbia.org
SUMMARY:Casino Night Committee Meeting
DESCRIPTION: \nI apologize for the date change; I had a conflict with a dental appointment\n \nSponsorship levels; raffle prizes\, prizes for discussion
URL:https://mcbia.org/event/casino-night-committee-meeting-26/
LOCATION:Marion County Building Industry Association\, 707 NE 25th Ave\, Ocala\, FL 34470\, USA
END:VEVENT
BEGIN:VEVENT
DTSTART;TZID=America/New_York:20240416T130000
DTEND;TZID=America/New_York:20240416T140000
DTSTAMP:20260420T063203
CREATED:20240401T200400Z
LAST-MODIFIED:20240415T225937Z
UID:10000831-1713272400-1713276000@mcbia.org
SUMMARY:MCBIA Workforce Committee Mtg
DESCRIPTION:It appears that we have been approved; we will meet to discuss next steps.
URL:https://mcbia.org/event/mcbia-workforce-committee-mtg-25/
LOCATION:Marion County Building Industry Association\, 707 NE 25th Ave\, Ocala\, FL 34470\, USA
END:VEVENT
BEGIN:VEVENT
DTSTART;TZID=America/New_York:20240411T110000
DTEND;TZID=America/New_York:20240411T130000
DTSTAMP:20260420T063203
CREATED:20240227T204550Z
LAST-MODIFIED:20240328T191420Z
UID:10000801-1712833200-1712840400@mcbia.org
SUMMARY:KOW Meeting
DESCRIPTION:We need to determine sponsorship levels and participation sheets
URL:https://mcbia.org/event/kow-meeting-17/
LOCATION:Marion County Building Industry Association\, 707 NE 25th Ave\, Ocala\, FL 34470\, USA
END:VEVENT
BEGIN:VEVENT
DTSTART;TZID=America/New_York:20240409T130000
DTEND;TZID=America/New_York:20240409T140000
DTSTAMP:20260420T063203
CREATED:20240227T204549Z
LAST-MODIFIED:20240408T210350Z
UID:10000800-1712667600-1712671200@mcbia.org
SUMMARY:MCBIA Workforce Committee Mtg
DESCRIPTION:It appears that we have been approved; we will meet to discuss next steps.
URL:https://mcbia.org/event/mcbia-workforce-committee-mtg-20/
LOCATION:Marion County Building Industry Association\, 707 NE 25th Ave\, Ocala\, FL 34470\, USA
END:VEVENT
END:VCALENDAR