BEGIN:VCALENDAR
VERSION:2.0
PRODID:-//Marion County Building Industry Association - ECPv6.15.20//NONSGML v1.0//EN
CALSCALE:GREGORIAN
METHOD:PUBLISH
X-WR-CALNAME:Marion County Building Industry Association
X-ORIGINAL-URL:https://mcbia.org
X-WR-CALDESC:Events for Marion County Building Industry Association
REFRESH-INTERVAL;VALUE=DURATION:PT1H
X-Robots-Tag:noindex
X-PUBLISHED-TTL:PT1H
BEGIN:VTIMEZONE
TZID:America/New_York
BEGIN:DAYLIGHT
TZOFFSETFROM:-0500
TZOFFSETTO:-0400
TZNAME:EDT
DTSTART:20220313T070000
END:DAYLIGHT
BEGIN:STANDARD
TZOFFSETFROM:-0400
TZOFFSETTO:-0500
TZNAME:EST
DTSTART:20221106T060000
END:STANDARD
BEGIN:DAYLIGHT
TZOFFSETFROM:-0500
TZOFFSETTO:-0400
TZNAME:EDT
DTSTART:20230312T070000
END:DAYLIGHT
BEGIN:STANDARD
TZOFFSETFROM:-0400
TZOFFSETTO:-0500
TZNAME:EST
DTSTART:20231105T060000
END:STANDARD
BEGIN:DAYLIGHT
TZOFFSETFROM:-0500
TZOFFSETTO:-0400
TZNAME:EDT
DTSTART:20240310T070000
END:DAYLIGHT
BEGIN:STANDARD
TZOFFSETFROM:-0400
TZOFFSETTO:-0500
TZNAME:EST
DTSTART:20241103T060000
END:STANDARD
BEGIN:DAYLIGHT
TZOFFSETFROM:-0500
TZOFFSETTO:-0400
TZNAME:EDT
DTSTART:20250309T070000
END:DAYLIGHT
BEGIN:STANDARD
TZOFFSETFROM:-0400
TZOFFSETTO:-0500
TZNAME:EST
DTSTART:20251102T060000
END:STANDARD
END:VTIMEZONE
BEGIN:VEVENT
DTSTART;TZID=America/New_York:20240419T130000
DTEND;TZID=America/New_York:20240419T140000
DTSTAMP:20260424T055133
CREATED:20240415T225938Z
LAST-MODIFIED:20240418T233101Z
UID:10000840-1713531600-1713535200@mcbia.org
SUMMARY:Meeting - Hudson Furniture
DESCRIPTION:Calendar conflict; need to change the time of the meeting; sorry for the inconvenience.
URL:https://mcbia.org/event/meeting-hudson-furniture/
LOCATION:Marion County Building Industry Association\, 707 NE 25th Ave\, Ocala\, FL 34470\, USA
END:VEVENT
BEGIN:VEVENT
DTSTART;TZID=America/New_York:20240418T090000
DTEND;TZID=America/New_York:20240418T100000
DTSTAMP:20260424T055133
CREATED:20240215T181532Z
LAST-MODIFIED:20240318T022050Z
UID:10000788-1713430800-1713434400@mcbia.org
SUMMARY:Casino Night Committee Meeting
DESCRIPTION:Sponsorship levels; raffle prizes\, prizes for discussion
URL:https://mcbia.org/event/casino-night-committee-meeting-21/
LOCATION:Marion County Building Industry Association\, 707 NE 25th Ave\, Ocala\, FL 34470\, USA
END:VEVENT
BEGIN:VEVENT
DTSTART;TZID=America/New_York:20240417T130000
DTEND;TZID=America/New_York:20240417T140000
DTSTAMP:20260424T055133
CREATED:20240321T025953Z
LAST-MODIFIED:20240416T230226Z
UID:10000824-1713358800-1713362400@mcbia.org
SUMMARY:Casino Night Committee Meeting
DESCRIPTION: \nI apologize for the date change; I had a conflict with a dental appointment\n \nSponsorship levels; raffle prizes\, prizes for discussion
URL:https://mcbia.org/event/casino-night-committee-meeting-26/
LOCATION:Marion County Building Industry Association\, 707 NE 25th Ave\, Ocala\, FL 34470\, USA
END:VEVENT
BEGIN:VEVENT
DTSTART;TZID=America/New_York:20240416T130000
DTEND;TZID=America/New_York:20240416T140000
DTSTAMP:20260424T055133
CREATED:20240401T200400Z
LAST-MODIFIED:20240415T225937Z
UID:10000831-1713272400-1713276000@mcbia.org
SUMMARY:MCBIA Workforce Committee Mtg
DESCRIPTION:It appears that we have been approved; we will meet to discuss next steps.
URL:https://mcbia.org/event/mcbia-workforce-committee-mtg-25/
LOCATION:Marion County Building Industry Association\, 707 NE 25th Ave\, Ocala\, FL 34470\, USA
END:VEVENT
BEGIN:VEVENT
DTSTART;TZID=America/New_York:20240411T110000
DTEND;TZID=America/New_York:20240411T130000
DTSTAMP:20260424T055133
CREATED:20240227T204550Z
LAST-MODIFIED:20240328T191420Z
UID:10000801-1712833200-1712840400@mcbia.org
SUMMARY:KOW Meeting
DESCRIPTION:We need to determine sponsorship levels and participation sheets
URL:https://mcbia.org/event/kow-meeting-17/
LOCATION:Marion County Building Industry Association\, 707 NE 25th Ave\, Ocala\, FL 34470\, USA
END:VEVENT
BEGIN:VEVENT
DTSTART;TZID=America/New_York:20240409T130000
DTEND;TZID=America/New_York:20240409T140000
DTSTAMP:20260424T055133
CREATED:20240227T204549Z
LAST-MODIFIED:20240408T210350Z
UID:10000800-1712667600-1712671200@mcbia.org
SUMMARY:MCBIA Workforce Committee Mtg
DESCRIPTION:It appears that we have been approved; we will meet to discuss next steps.
URL:https://mcbia.org/event/mcbia-workforce-committee-mtg-20/
LOCATION:Marion County Building Industry Association\, 707 NE 25th Ave\, Ocala\, FL 34470\, USA
END:VEVENT
BEGIN:VEVENT
DTSTART;TZID=America/New_York:20240409T094500
DTEND;TZID=America/New_York:20240409T104500
DTSTAMP:20260424T055133
CREATED:20240401T200359Z
LAST-MODIFIED:20240408T210350Z
UID:10000830-1712655900-1712659500@mcbia.org
SUMMARY:POH Meeting
DESCRIPTION:Join with Google Meet: https://meet.google.com/abz-yebd-oza\nOr dial: (US) +1 484-420-7999 PIN: 442158597#\nMore phone numbers: https://tel.meet/abz-yebd-oza?pin=5050710105725&hs=7\nLearn more about Meet at: https://support.google.com/a/users/answer/9282720
URL:https://mcbia.org/event/poh-meeting/
LOCATION:Marion County Building Industry Association\, 707 NE 25th Ave\, Ocala\, FL 34470\, USA
END:VEVENT
BEGIN:VEVENT
DTSTART;TZID=America/New_York:20240404T093000
DTEND;TZID=America/New_York:20240404T103000
DTSTAMP:20260424T055133
CREATED:20240321T025952Z
LAST-MODIFIED:20240325T034642Z
UID:10000823-1712223000-1712226600@mcbia.org
SUMMARY:Casino Night Committee Meeting
DESCRIPTION:Sponsorship levels; raffle prizes\, prizes for discussion
URL:https://mcbia.org/event/casino-night-committee-meeting-25/
LOCATION:Marion County Building Industry Association\, 707 NE 25th Ave\, Ocala\, FL 34470\, USA
END:VEVENT
BEGIN:VEVENT
DTSTART;TZID=America/New_York:20240404T090000
DTEND;TZID=America/New_York:20240404T100000
DTSTAMP:20260424T055133
CREATED:20240321T025952Z
LAST-MODIFIED:20240403T203228Z
UID:10000822-1712221200-1712224800@mcbia.org
SUMMARY:Casino Night Committee Meeting
DESCRIPTION:Sponsorship levels; raffle prizes\, prizes for discussion
URL:https://mcbia.org/event/casino-night-committee-meeting-24/
LOCATION:Marion County Building Industry Association\, 707 NE 25th Ave\, Ocala\, FL 34470\, USA
END:VEVENT
BEGIN:VEVENT
DTSTART;TZID=America/New_York:20240404T090000
DTEND;TZID=America/New_York:20240404T100000
DTSTAMP:20260424T055133
CREATED:20240215T181530Z
LAST-MODIFIED:20240318T022049Z
UID:10000787-1712221200-1712224800@mcbia.org
SUMMARY:Casino Night Committee Meeting
DESCRIPTION:Sponsorship levels; raffle prizes\, prizes for discussion
URL:https://mcbia.org/event/casino-night-committee-meeting-20/
LOCATION:Marion County Building Industry Association\, 707 NE 25th Ave\, Ocala\, FL 34470\, USA
END:VEVENT
BEGIN:VEVENT
DTSTART;TZID=America/New_York:20240329T130000
DTEND;TZID=America/New_York:20240329T140000
DTSTAMP:20260424T055133
CREATED:20240309T224455Z
LAST-MODIFIED:20240325T034642Z
UID:10000813-1711717200-1711720800@mcbia.org
SUMMARY:MCBIA Workforce Committee Mtg
DESCRIPTION: We are moving this meeting later in the month to allow the representative from ACT to meet with us first. \n \nWaiting on approval of ACT application; Habitat for Humanity response; W/C insurance questions
URL:https://mcbia.org/event/mcbia-workforce-committee-mtg-23/
LOCATION:Marion County Building Industry Association\, 707 NE 25th Ave\, Ocala\, FL 34470\, USA
END:VEVENT
BEGIN:VEVENT
DTSTART;TZID=America/New_York:20240321T113000
DTEND;TZID=America/New_York:20240321T123000
DTSTAMP:20260424T055133
CREATED:20240215T181530Z
LAST-MODIFIED:20240318T022048Z
UID:10000786-1711020600-1711024200@mcbia.org
SUMMARY:Casino Night Committee Meeting
DESCRIPTION:Sponsorship levels; raffle prizes\, prizes for discussion
URL:https://mcbia.org/event/casino-night-committee-meeting-19/
LOCATION:Marion County Building Industry Association\, 707 NE 25th Ave\, Ocala\, FL 34470\, USA
END:VEVENT
BEGIN:VEVENT
DTSTART;TZID=America/New_York:20240320T083000
DTEND;TZID=America/New_York:20240320T100000
DTSTAMP:20260424T055133
CREATED:20240306T220208Z
LAST-MODIFIED:20240318T022047Z
UID:10000810-1710923400-1710928800@mcbia.org
SUMMARY:MCBIA New Member Orientation
DESCRIPTION:Orientation for new members; refresher for any member\nJoin with Google Meet: https://meet.google.com/mpi-wgvf-phh\nOr dial: (US) +1 567-218-1416 PIN: 191785914#\nMore phone numbers: https://tel.meet/mpi-wgvf-phh?pin=6628254160366&hs=7\nLearn more about Meet at: https://support.google.com/a/users/answer/9282720
URL:https://mcbia.org/event/mcbia-new-member-orientation/
LOCATION:Marion County Building Industry Association\, 707 NE 25th Ave\, Ocala\, FL 34470\, USA
END:VEVENT
BEGIN:VEVENT
DTSTART;TZID=America/New_York:20240314T110000
DTEND;TZID=America/New_York:20240314T130000
DTSTAMP:20260424T055133
CREATED:20240227T204548Z
LAST-MODIFIED:20240311T230128Z
UID:10000799-1710414000-1710421200@mcbia.org
SUMMARY:KOW Meeting
DESCRIPTION:We need to determine sponsorship levels and participation sheets
URL:https://mcbia.org/event/kow-meeting-16/
LOCATION:Marion County Building Industry Association\, 707 NE 25th Ave\, Ocala\, FL 34470\, USA
END:VEVENT
BEGIN:VEVENT
DTSTART;TZID=America/New_York:20240313T110000
DTEND;TZID=America/New_York:20240313T120000
DTSTAMP:20260424T055133
CREATED:20240304T214637Z
LAST-MODIFIED:20240311T230128Z
UID:10000808-1710327600-1710331200@mcbia.org
SUMMARY:KOW Meeting
DESCRIPTION:This is our final meeting before the event; please have all sponsorship and competitor documents completed.  We will discuss placement of vendors\, vehicles\, and competitors at this meeting.\nPlease bring any volunteer information on this day\, as well.\nJoin with Google Meet: https://meet.google.com/aed-wpdq-mrx\nOr dial: (US) +1 443-606-0922 PIN: 440383261#\nMore phone numbers: https://tel.meet/aed-wpdq-mrx?pin=6381694812001&hs=7\nLearn more about Meet at: https://support.google.com/a/users/answer/9282720
URL:https://mcbia.org/event/kow-meeting-19/
LOCATION:Marion County Building Industry Association\, 707 NE 25th Ave\, Ocala\, FL 34470\, USA
END:VEVENT
BEGIN:VEVENT
DTSTART;TZID=America/New_York:20240312T130000
DTEND;TZID=America/New_York:20240312T140000
DTSTAMP:20260424T055133
CREATED:20240309T224453Z
LAST-MODIFIED:20240311T230128Z
UID:10000812-1710248400-1710252000@mcbia.org
SUMMARY:MCBIA Workforce Committee Mtg
DESCRIPTION:Waiting on approval of ACT application; Habitat for Humanity response; W/C insurance questions
URL:https://mcbia.org/event/mcbia-workforce-committee-mtg-22/
LOCATION:Marion County Building Industry Association\, 707 NE 25th Ave\, Ocala\, FL 34470\, USA
END:VEVENT
BEGIN:VEVENT
DTSTART;TZID=America/New_York:20240307T110000
DTEND;TZID=America/New_York:20240307T130000
DTSTAMP:20260424T055133
CREATED:20240227T204547Z
LAST-MODIFIED:20240306T220207Z
UID:10000798-1709809200-1709816400@mcbia.org
SUMMARY:KOW Meeting
DESCRIPTION:We need to determine sponsorship levels and participation sheets
URL:https://mcbia.org/event/kow-meeting-15/
LOCATION:Marion County Building Industry Association\, 707 NE 25th Ave\, Ocala\, FL 34470\, USA
END:VEVENT
BEGIN:VEVENT
DTSTART;TZID=America/New_York:20240307T090000
DTEND;TZID=America/New_York:20240307T100000
DTSTAMP:20260424T055133
CREATED:20240215T181529Z
LAST-MODIFIED:20240306T220207Z
UID:10000785-1709802000-1709805600@mcbia.org
SUMMARY:Casino Night Committee Meeting
DESCRIPTION:Sponsorship levels; raffle prizes\, prizes for discussion
URL:https://mcbia.org/event/casino-night-committee-meeting-18/
LOCATION:Marion County Building Industry Association\, 707 NE 25th Ave\, Ocala\, FL 34470\, USA
END:VEVENT
BEGIN:VEVENT
DTSTART;TZID=America/New_York:20240222T123000
DTEND;TZID=America/New_York:20240222T130000
DTSTAMP:20260424T055133
CREATED:20240219T190247Z
LAST-MODIFIED:20240220T191759Z
UID:10000794-1708605000-1708606800@mcbia.org
SUMMARY:Interview Shanai Inns
DESCRIPTION:Join with Google Meet: https://meet.google.com/twc-zwmw-jvy\nOr dial: (US) +1 413-424-6467 PIN: 645785100#\nMore phone numbers: https://tel.meet/twc-zwmw-jvy?pin=7896750889401&hs=7\nLearn more about Meet at: https://support.google.com/a/users/answer/9282720
URL:https://mcbia.org/event/interview-shanai-inns/
LOCATION:Marion County Building Industry Association\, 707 NE 25th Ave\, Ocala\, FL 34470\, USA
END:VEVENT
BEGIN:VEVENT
DTSTART;TZID=America/New_York:20240219T120000
DTEND;TZID=America/New_York:20240219T130000
DTSTAMP:20260424T055133
CREATED:20240214T180133Z
LAST-MODIFIED:20240215T181528Z
UID:10000780-1708344000-1708347600@mcbia.org
SUMMARY:Interview Allyson L. Walls
DESCRIPTION:Join with Google Meet: https://meet.google.com/uka-qhbp-tby\nOr dial: (US) +1 601-861-4184 PIN: 409935599#\nMore phone numbers: https://tel.meet/uka-qhbp-tby?pin=3670397661804&hs=7\nLearn more about Meet at: https://support.google.com/a/users/answer/9282720
URL:https://mcbia.org/event/interview-allyson-l-walls/
LOCATION:Marion County Building Industry Association\, 707 NE 25th Ave\, Ocala\, FL 34470\, USA
END:VEVENT
BEGIN:VEVENT
DTSTART;TZID=America/New_York:20240125T130000
DTEND;TZID=America/New_York:20240125T140000
DTSTAMP:20260424T055133
CREATED:20231027T214347Z
LAST-MODIFIED:20240119T131659Z
UID:10000688-1706187600-1706191200@mcbia.org
SUMMARY:KOW Committee Meeting - 2024
DESCRIPTION:*Please note time of meeting change; conflict with schedules\n \nMCBIA Board has asked us to consider Tuesday\, March 26\, 2024 for the date\, and they would like us to stay in the downtown Ocala location\, with some changes to the set up.  \nScott Olschewske and Allen Curry will Co-chair this year.\n \nReminder of meeting\nJoin with Google Meet: https://meet.google.com/sje-spij-euq\nOr dial: (US) +1 505-445-7226 PIN: 170852369#\nMore phone numbers: https://tel.meet/sje-spij-euq?pin=8901246823923&hs=7\nLearn more about Meet at: https://support.google.com/a/users/answer/9282720
URL:https://mcbia.org/event/kow-committee-meeting-2024-5/
LOCATION:Marion County Building Industry Association\, 707 NE 25th Ave\, Ocala\, FL 34470\, USA
END:VEVENT
BEGIN:VEVENT
DTSTART;TZID=America/New_York:20240111T110000
DTEND;TZID=America/New_York:20240111T130000
DTSTAMP:20260424T055133
CREATED:20231026T213114Z
LAST-MODIFIED:20231220T083003Z
UID:10000687-1704970800-1704978000@mcbia.org
SUMMARY:KOW Meeting
DESCRIPTION:We need to determine sponsorship levels and participation sheets\nJoin with Google Meet: https://meet.google.com/kqt-uztk-vwm\nOr dial: (US) +1 240-514-8513 PIN: 883215209#\nMore phone numbers: https://tel.meet/kqt-uztk-vwm?pin=3606799498377&hs=7\nLearn more about Meet at: https://support.google.com/a/users/answer/9282720
URL:https://mcbia.org/event/kow-meeting-7/
LOCATION:Marion County Building Industry Association\, 707 NE 25th Ave\, Ocala\, FL 34470\, USA
END:VEVENT
BEGIN:VEVENT
DTSTART;TZID=America/New_York:20240109T130000
DTEND;TZID=America/New_York:20240109T140000
DTSTAMP:20260424T055133
CREATED:20231011T072943Z
LAST-MODIFIED:20231115T023203Z
UID:10000662-1704805200-1704808800@mcbia.org
SUMMARY:MCBIA Workforce Committee Mtg
DESCRIPTION:We are  meeting to discuss ideas and how to proceed with this program\n \nWe will meet the Second Tuesday of every month.
URL:https://mcbia.org/event/mcbia-workforce-committee-mtg-5/
LOCATION:Marion County Building Industry Association\, 707 NE 25th Ave\, Ocala\, FL 34470\, USA
END:VEVENT
BEGIN:VEVENT
DTSTART;TZID=America/New_York:20231228T130000
DTEND;TZID=America/New_York:20231228T140000
DTSTAMP:20260424T055133
CREATED:20230929T051639Z
LAST-MODIFIED:20231228T094409Z
UID:10000656-1703768400-1703772000@mcbia.org
SUMMARY:KOW Committee Meeting - 2024
DESCRIPTION:*Please note time of meeting change; conflict with schedules\n \nMCBIA Board has asked us to consider Tuesday\, March 26\, 2024 for the date\, and they would like us to stay in the downtown Ocala location\, with some changes to the set up.  \nScott Olschewske and Allen Curry will Co-chair this year.\n \nReminder of meeting\nJoin with Google Meet: https://meet.google.com/sje-spij-euq\nOr dial: (US) +1 505-445-7226 PIN: 170852369#\nMore phone numbers: https://tel.meet/sje-spij-euq?pin=8901246823923&hs=7\nLearn more about Meet at: https://support.google.com/a/users/answer/9282720
URL:https://mcbia.org/event/kow-committee-meeting-2024-4/
LOCATION:Marion County Building Industry Association\, 707 NE 25th Ave\, Ocala\, FL 34470\, USA
END:VEVENT
BEGIN:VEVENT
DTSTART;TZID=America/New_York:20231214T110000
DTEND;TZID=America/New_York:20231214T130000
DTSTAMP:20260424T055133
CREATED:20231026T213113Z
LAST-MODIFIED:20231212T064808Z
UID:10000686-1702551600-1702558800@mcbia.org
SUMMARY:KOW Meeting
DESCRIPTION:We need to determine sponsorship levels and participation sheets\nJoin with Google Meet: https://meet.google.com/kqt-uztk-vwm\nOr dial: (US) +1 240-514-8513 PIN: 883215209#\nMore phone numbers: https://tel.meet/kqt-uztk-vwm?pin=3606799498377&hs=7\nLearn more about Meet at: https://support.google.com/a/users/answer/9282720
URL:https://mcbia.org/event/kow-meeting-6/
LOCATION:Marion County Building Industry Association\, 707 NE 25th Ave\, Ocala\, FL 34470\, USA
END:VEVENT
BEGIN:VEVENT
DTSTART;TZID=America/New_York:20231214T110000
DTEND;TZID=America/New_York:20231214T130000
DTSTAMP:20260424T055133
CREATED:20231013T184826Z
LAST-MODIFIED:20231025T211741Z
UID:10000667-1702551600-1702558800@mcbia.org
SUMMARY:KOW Meeting
DESCRIPTION:We need to determine sponsorship levels and participation sheets\n \nSorry; time change so the Chair can attend.\nJoin with Google Meet: https://meet.google.com/kqt-uztk-vwm\nOr dial: (US) +1 240-514-8513 PIN: 883215209#\nMore phone numbers: https://tel.meet/kqt-uztk-vwm?pin=3606799498377&hs=7\nLearn more about Meet at: https://support.google.com/a/users/answer/9282720
URL:https://mcbia.org/event/kow-meeting-3/
LOCATION:Marion County Building Industry Association\, 707 NE 25th Ave\, Ocala\, FL 34470\, USA
END:VEVENT
BEGIN:VEVENT
DTSTART;TZID=America/New_York:20231212T130000
DTEND;TZID=America/New_York:20231212T140000
DTSTAMP:20260424T055133
CREATED:20230913T034349Z
LAST-MODIFIED:20231115T023202Z
UID:10000643-1702386000-1702389600@mcbia.org
SUMMARY:MCBIA Workforce Committee Mtg
DESCRIPTION:We are  meeting to discuss ideas and how to proceed with this program\n \nWe will meet the Second Tuesday of every month.
URL:https://mcbia.org/event/mcbia-workforce-committee-mtg-4/
LOCATION:Marion County Building Industry Association\, 707 NE 25th Ave\, Ocala\, FL 34470\, USA
END:VEVENT
BEGIN:VEVENT
DTSTART;TZID=America/New_York:20231206T140000
DTEND;TZID=America/New_York:20231206T150000
DTSTAMP:20260424T055133
CREATED:20230921T043248Z
LAST-MODIFIED:20231206T053415Z
UID:10000648-1701871200-1701874800@mcbia.org
SUMMARY:E-committee
DESCRIPTION:* PLEASE NOTE CHANGE OF LOCATION \nIn an effort to coordinate days and times\,  the Executive Board meetings to 2:00 PM\, on the 3rd Wednesday of every month;  the same day as the Regular Board meetings.
URL:https://mcbia.org/event/e-committee-5/
LOCATION:Marion County Building Industry Association\, 707 NE 25th Ave\, Ocala\, FL 34470\, USA
END:VEVENT
BEGIN:VEVENT
DTSTART;TZID=America/New_York:20231123T130000
DTEND;TZID=America/New_York:20231123T140000
DTSTAMP:20260424T055133
CREATED:20230926T050041Z
LAST-MODIFIED:20231101T223214Z
UID:10000653-1700744400-1700748000@mcbia.org
SUMMARY:KOW Committee Meeting - 2024
DESCRIPTION:*Please note time of meeting change; conflict with schedules\n \nMCBIA Board has asked us to consider Tuesday\, March 26\, 2024 for the date\, and they would like us to stay in the downtown Ocala location\, with some changes to the set up.  \nScott Olschewske and Allen Curry will Co-chair this year.\n \nReminder of meeting\nJoin with Google Meet: https://meet.google.com/sje-spij-euq\nOr dial: (US) +1 505-445-7226 PIN: 170852369#\nMore phone numbers: https://tel.meet/sje-spij-euq?pin=8901246823923&hs=7\nLearn more about Meet at: https://support.google.com/a/users/answer/9282720
URL:https://mcbia.org/event/kow-committee-meeting-2024-3/
LOCATION:Marion County Building Industry Association\, 707 NE 25th Ave\, Ocala\, FL 34470\, USA
END:VEVENT
BEGIN:VEVENT
DTSTART;TZID=America/New_York:20231114T130000
DTEND;TZID=America/New_York:20231114T140000
DTSTAMP:20260424T055133
CREATED:20230821T223131Z
LAST-MODIFIED:20231114T023048Z
UID:10000631-1699966800-1699970400@mcbia.org
SUMMARY:MCBIA Workforce Committee Mtg
DESCRIPTION:Please come to our President\, David Tillman’s \, Board room at Tillman & Associates Engineering for this meeting
URL:https://mcbia.org/event/mcbia-workforce-committee-mtg-3/
LOCATION:Marion County Building Industry Association\, 707 NE 25th Ave\, Ocala\, FL 34470\, USA
END:VEVENT
END:VCALENDAR