BEGIN:VCALENDAR
VERSION:2.0
PRODID:-//Marion County Building Industry Association - ECPv6.15.20//NONSGML v1.0//EN
CALSCALE:GREGORIAN
METHOD:PUBLISH
X-WR-CALNAME:Marion County Building Industry Association
X-ORIGINAL-URL:https://mcbia.org
X-WR-CALDESC:Events for Marion County Building Industry Association
REFRESH-INTERVAL;VALUE=DURATION:PT1H
X-Robots-Tag:noindex
X-PUBLISHED-TTL:PT1H
BEGIN:VTIMEZONE
TZID:America/New_York
BEGIN:DAYLIGHT
TZOFFSETFROM:-0500
TZOFFSETTO:-0400
TZNAME:EDT
DTSTART:20220313T070000
END:DAYLIGHT
BEGIN:STANDARD
TZOFFSETFROM:-0400
TZOFFSETTO:-0500
TZNAME:EST
DTSTART:20221106T060000
END:STANDARD
BEGIN:DAYLIGHT
TZOFFSETFROM:-0500
TZOFFSETTO:-0400
TZNAME:EDT
DTSTART:20230312T070000
END:DAYLIGHT
BEGIN:STANDARD
TZOFFSETFROM:-0400
TZOFFSETTO:-0500
TZNAME:EST
DTSTART:20231105T060000
END:STANDARD
BEGIN:DAYLIGHT
TZOFFSETFROM:-0500
TZOFFSETTO:-0400
TZNAME:EDT
DTSTART:20240310T070000
END:DAYLIGHT
BEGIN:STANDARD
TZOFFSETFROM:-0400
TZOFFSETTO:-0500
TZNAME:EST
DTSTART:20241103T060000
END:STANDARD
END:VTIMEZONE
BEGIN:VEVENT
DTSTART;TZID=America/New_York:20231012T110000
DTEND;TZID=America/New_York:20231012T130000
DTSTAMP:20260424T150836
CREATED:20231006T063058Z
LAST-MODIFIED:20231011T184543Z
UID:10000658-1697108400-1697115600@mcbia.org
SUMMARY:KOW Meeting
DESCRIPTION:We need to determine sponsorship levels and participation sheets\n \nSorry; time change so the Chair can attend.\nJoin with Google Meet: https://meet.google.com/kqt-uztk-vwm\nOr dial: (US) +1 240-514-8513 PIN: 883215209#\nMore phone numbers: https://tel.meet/kqt-uztk-vwm?pin=3606799498377&hs=7\nLearn more about Meet at: https://support.google.com/a/users/answer/9282720
URL:https://mcbia.org/event/kow-meeting/
LOCATION:Marion County Building Industry Association\, 707 NE 25th Ave\, Ocala\, FL 34470\, USA
END:VEVENT
BEGIN:VEVENT
DTSTART;TZID=America/New_York:20231011T140000
DTEND;TZID=America/New_York:20231011T150000
DTSTAMP:20260424T150836
CREATED:20230810T211640Z
LAST-MODIFIED:20231005T061738Z
UID:10000624-1697032800-1697036400@mcbia.org
SUMMARY:E-committee
DESCRIPTION:Date change because of Golf Tournament date
URL:https://mcbia.org/event/e-committee-3/
LOCATION:Marion County Building Industry Association\, 707 NE 25th Ave\, Ocala\, FL 34470\, USA
END:VEVENT
BEGIN:VEVENT
DTSTART;TZID=America/New_York:20231010T130000
DTEND;TZID=America/New_York:20231010T140000
DTSTAMP:20260424T150836
CREATED:20230810T211640Z
LAST-MODIFIED:20231009T065818Z
UID:10000621-1696942800-1696946400@mcbia.org
SUMMARY:MCBIA Workforce Committee Mtg
DESCRIPTION:We are  meeting to discuss ideas and how to proceed with this program; change of location to Lake Weir HS.\n \nWe will meet the Second Tuesday of every month.
URL:https://mcbia.org/event/mcbia-workforce-committee-mtg-2/
LOCATION:Marion County Building Industry Association\, 707 NE 25th Ave\, Ocala\, FL 34470\, USA
END:VEVENT
BEGIN:VEVENT
DTSTART;TZID=America/New_York:20231004T150000
DTEND;TZID=America/New_York:20231004T170000
DTSTAMP:20260424T150836
CREATED:20230914T034731Z
LAST-MODIFIED:20231003T055801Z
UID:10000645-1696431600-1696438800@mcbia.org
SUMMARY:By Laws Committee
DESCRIPTION:Revision to Bylaws: Role of the Secretary\, Board member responsibility/ commitment\, Code of Ethics\nJoin with Google Meet: https://meet.google.com/sjm-ogvn-fsd\nOr dial: (US) +1 339-526-4276 PIN: 987877789#\nMore phone numbers: https://tel.meet/sjm-ogvn-fsd?pin=5861173602964&hs=7\nLearn more about Meet at: https://support.google.com/a/users/answer/9282720
URL:https://mcbia.org/event/by-laws-committee/
LOCATION:Marion County Building Industry Association\, 707 NE 25th Ave\, Ocala\, FL 34470\, USA
END:VEVENT
BEGIN:VEVENT
DTSTART;TZID=America/New_York:20231004T100000
DTEND;TZID=America/New_York:20231004T143000
DTSTAMP:20260424T150836
CREATED:20230921T043245Z
LAST-MODIFIED:20231003T055801Z
UID:10000647-1696413600-1696429800@mcbia.org
SUMMARY:STRATEGIC PLANNING - MCBIA
DESCRIPTION:BUDGET AND PLANNING FOR 2024\n \nPlease note time change; breakfast will be provided; lunch will be ordered\, and the Bylaws committee will meet immediately following at 3:00PM
URL:https://mcbia.org/event/strategic-planning-mcbia/
LOCATION:Marion County Building Industry Association\, 707 NE 25th Ave\, Ocala\, FL 34470\, USA
END:VEVENT
BEGIN:VEVENT
DTSTART;TZID=America/New_York:20230928T130000
DTEND;TZID=America/New_York:20230928T140000
DTSTAMP:20260424T150836
CREATED:20230926T050039Z
LAST-MODIFIED:20230928T050243Z
UID:10000651-1695906000-1695909600@mcbia.org
SUMMARY:KOW Committee Meeting - 2024
DESCRIPTION:*Please note time of meeting change; conflict with schedules\n \nMCBIA Board has asked us to consider Tuesday\, March 26\, 2024 for the date\, and they would like us to stay in the downtown Ocala location\, with some changes to the set up.  \nScott Olschewske and Allen Curry will Co-chair this year.\n \nReminder of meeting\nJoin with Google Meet: https://meet.google.com/sje-spij-euq\nOr dial: (US) +1 505-445-7226 PIN: 170852369#\nMore phone numbers: https://tel.meet/sje-spij-euq?pin=8901246823923&hs=7\nLearn more about Meet at: https://support.google.com/a/users/answer/9282720
URL:https://mcbia.org/event/kow-committee-meeting-2024/
LOCATION:Marion County Building Industry Association\, 707 NE 25th Ave\, Ocala\, FL 34470\, USA
END:VEVENT
BEGIN:VEVENT
DTSTART;TZID=America/New_York:20230926T133000
DTEND;TZID=America/New_York:20230926T150000
DTSTAMP:20260424T150836
CREATED:20230907T024442Z
LAST-MODIFIED:20230926T050038Z
UID:10000638-1695735000-1695740400@mcbia.org
SUMMARY:Golf Committee
DESCRIPTION:Please come with sponsors\, items\, or ideas\nJoin with Google Meet: https://meet.google.com/gzd-zdsm-ced\nOr dial: (US) +1 530-453-9018 PIN: 560958699#\nMore phone numbers: https://tel.meet/gzd-zdsm-ced?pin=6901939945343&hs=7\nLearn more about Meet at: https://support.google.com/a/users/answer/9282720
URL:https://mcbia.org/event/golf-committee/
LOCATION:Marion County Building Industry Association\, 707 NE 25th Ave\, Ocala\, FL 34470\, USA
END:VEVENT
BEGIN:VEVENT
DTSTART;TZID=America/New_York:20230913T140000
DTEND;TZID=America/New_York:20230913T150000
DTSTAMP:20260424T150836
CREATED:20230810T211639Z
LAST-MODIFIED:20230913T034346Z
UID:10000615-1694613600-1694617200@mcbia.org
SUMMARY:E-committee
DESCRIPTION:Change of date; one week earlier
URL:https://mcbia.org/event/e-committee-2/
LOCATION:Marion County Building Industry Association\, 707 NE 25th Ave\, Ocala\, FL 34470\, USA
END:VEVENT
BEGIN:VEVENT
DTSTART;TZID=America/New_York:20230913T083000
DTEND;TZID=America/New_York:20230913T100000
DTSTAMP:20260424T150836
CREATED:20230909T031049Z
LAST-MODIFIED:20230913T034345Z
UID:10000639-1694593800-1694599200@mcbia.org
SUMMARY:Member Orientation
DESCRIPTION:Introduction to MCBIA; questions\, information and benefits of membership\nJoin with Google Meet: https://meet.google.com/khm-xswq-ska\nOr dial: (US) +1 314-833-7238 PIN: 584030517#\nMore phone numbers: https://tel.meet/khm-xswq-ska?pin=3834752401415&hs=7\nLearn more about Meet at: https://support.google.com/a/users/answer/9282720
URL:https://mcbia.org/event/member-orientation/
LOCATION:Marion County Building Industry Association\, 707 NE 25th Ave\, Ocala\, FL 34470\, USA
END:VEVENT
BEGIN:VEVENT
DTSTART;TZID=America/New_York:20230912T130000
DTEND;TZID=America/New_York:20230912T140000
DTSTAMP:20260424T150836
CREATED:20230810T211639Z
LAST-MODIFIED:20230901T000205Z
UID:10000613-1694523600-1694527200@mcbia.org
SUMMARY:MCBIA Workforce Committee Mtg
DESCRIPTION:We are  meeting to discuss ideas and how to proceed with this program\n \nWe will meet the Second Tuesday of every month.
URL:https://mcbia.org/event/mcbia-workforce-committee-mtg/
LOCATION:Marion County Building Industry Association\, 707 NE 25th Ave\, Ocala\, FL 34470\, USA
END:VEVENT
BEGIN:VEVENT
DTSTART;TZID=America/New_York:20230816T140000
DTEND;TZID=America/New_York:20230816T150000
DTSTAMP:20260424T150836
CREATED:20230810T211638Z
LAST-MODIFIED:20230815T205052Z
UID:10000607-1692194400-1692198000@mcbia.org
SUMMARY:E-committee
DESCRIPTION:* PLEASE NOTE CHANGE OF LOCATION \nIn an effort to coordinate days and times\,  the Executive Board meetings to 2:00 PM\, on the 3rd Wednesday of every month;  the same day as the Regular Board meetings.
URL:https://mcbia.org/event/e-committee/
LOCATION:Marion County Building Industry Association\, 707 NE 25th Ave\, Ocala\, FL 34470\, USA
END:VEVENT
BEGIN:VEVENT
DTSTART;TZID=America/New_York:20230814T120000
DTEND;TZID=America/New_York:20230814T133000
DTSTAMP:20260424T150836
CREATED:20230810T211638Z
LAST-MODIFIED:20230813T214702Z
UID:10000605-1692014400-1692019800@mcbia.org
SUMMARY:Lunch Mtg
DESCRIPTION:Discussion of Construction Academy proposal
URL:https://mcbia.org/event/lunch-mtg/
LOCATION:Marion County Building Industry Association\, 707 NE 25th Ave\, Ocala\, FL 34470\, USA
END:VEVENT
END:VCALENDAR