BEGIN:VCALENDAR
VERSION:2.0
PRODID:-//Marion County Building Industry Association - ECPv6.15.20//NONSGML v1.0//EN
CALSCALE:GREGORIAN
METHOD:PUBLISH
X-ORIGINAL-URL:https://mcbia.org
X-WR-CALDESC:Events for Marion County Building Industry Association
REFRESH-INTERVAL;VALUE=DURATION:PT1H
X-Robots-Tag:noindex
X-PUBLISHED-TTL:PT1H
BEGIN:VTIMEZONE
TZID:America/New_York
BEGIN:DAYLIGHT
TZOFFSETFROM:-0500
TZOFFSETTO:-0400
TZNAME:EDT
DTSTART:20250309T070000
END:DAYLIGHT
BEGIN:STANDARD
TZOFFSETFROM:-0400
TZOFFSETTO:-0500
TZNAME:EST
DTSTART:20251102T060000
END:STANDARD
BEGIN:DAYLIGHT
TZOFFSETFROM:-0500
TZOFFSETTO:-0400
TZNAME:EDT
DTSTART:20260308T070000
END:DAYLIGHT
BEGIN:STANDARD
TZOFFSETFROM:-0400
TZOFFSETTO:-0500
TZNAME:EST
DTSTART:20261101T060000
END:STANDARD
BEGIN:DAYLIGHT
TZOFFSETFROM:-0500
TZOFFSETTO:-0400
TZNAME:EDT
DTSTART:20270314T070000
END:DAYLIGHT
BEGIN:STANDARD
TZOFFSETFROM:-0400
TZOFFSETTO:-0500
TZNAME:EST
DTSTART:20271107T060000
END:STANDARD
END:VTIMEZONE
BEGIN:VEVENT
DTSTART;TZID=America/New_York:20260729T100000
DTEND;TZID=America/New_York:20260730T170000
DTSTAMP:20260420T061343
CREATED:20260415T125941Z
LAST-MODIFIED:20260415T130609Z
UID:10001485-1785319200-1785430800@mcbia.org
SUMMARY:2026 Southeast Building Conference
DESCRIPTION:  \n \n  \nJuly 29–30\, 2026 | Orange County Convention Center | Orlando\, Florida\nSEBC 2026 Registration Is Open\nSecure your spot now for the Southeast Building Conference. \nJoin thousands of builders\, contractors\, designers\, decision-makers\, and suppliers for two days of exhibits\, education\, networking\, and industry insight. \nSEBC is a two (2) day expo show\, which begins on Wednesday\, July 29\, 2026 and ends on Thursday\, July 30\, 2026. \nHall hours include: \n\nWednesday\, July 29: 10:00 a.m. to 5:00 p.m.\nThursday\, July 30: 10:00 a.m. to 5:00 p.m.\n\nExpo Passes are FREE until April 30th! \nRegister before April 30th to save at www.sebcshow.com/attend.
URL:https://mcbia.org/event/southeast-building-conference-2026/
LOCATION:Orange County Convention Center\, 9800 International Dr\, Orlando\, FL\, 32819\, United States
END:VEVENT
END:VCALENDAR