BEGIN:VCALENDAR
VERSION:2.0
PRODID:-//Marion County Building Industry Association - ECPv6.15.20//NONSGML v1.0//EN
CALSCALE:GREGORIAN
METHOD:PUBLISH
X-WR-CALNAME:Marion County Building Industry Association
X-ORIGINAL-URL:https://mcbia.org
X-WR-CALDESC:Events for Marion County Building Industry Association
REFRESH-INTERVAL;VALUE=DURATION:PT1H
X-Robots-Tag:noindex
X-PUBLISHED-TTL:PT1H
BEGIN:VTIMEZONE
TZID:America/New_York
BEGIN:DAYLIGHT
TZOFFSETFROM:-0500
TZOFFSETTO:-0400
TZNAME:EDT
DTSTART:20250309T070000
END:DAYLIGHT
BEGIN:STANDARD
TZOFFSETFROM:-0400
TZOFFSETTO:-0500
TZNAME:EST
DTSTART:20251102T060000
END:STANDARD
BEGIN:DAYLIGHT
TZOFFSETFROM:-0500
TZOFFSETTO:-0400
TZNAME:EDT
DTSTART:20260308T070000
END:DAYLIGHT
BEGIN:STANDARD
TZOFFSETFROM:-0400
TZOFFSETTO:-0500
TZNAME:EST
DTSTART:20261101T060000
END:STANDARD
BEGIN:DAYLIGHT
TZOFFSETFROM:-0500
TZOFFSETTO:-0400
TZNAME:EDT
DTSTART:20270314T070000
END:DAYLIGHT
BEGIN:STANDARD
TZOFFSETFROM:-0400
TZOFFSETTO:-0500
TZNAME:EST
DTSTART:20271107T060000
END:STANDARD
END:VTIMEZONE
BEGIN:VEVENT
DTSTART;TZID=America/New_York:20260430T083000
DTEND;TZID=America/New_York:20260430T150000
DTSTAMP:20260425T074754
CREATED:20260227T164413Z
LAST-MODIFIED:20260317T210355Z
UID:10001448-1777537800-1777561200@mcbia.org
SUMMARY:Student Interviews w/ MCBIA members
DESCRIPTION:
URL:https://mcbia.org/event/student-interviews-w-mcbia-members/
LOCATION:TBD
END:VEVENT
BEGIN:VEVENT
DTSTART;TZID=America/New_York:20260505T170000
DTEND;TZID=America/New_York:20260505T190000
DTSTAMP:20260425T074754
CREATED:20260227T164413Z
LAST-MODIFIED:20260317T210356Z
UID:10001449-1778000400-1778007600@mcbia.org
SUMMARY:Conjunction Junction
DESCRIPTION:Companies host social gathering to showcase their business; they can provide door prizes\, food and beverages\, in a relaxed atmosphere
URL:https://mcbia.org/event/conjunction-junction-27/
LOCATION:TBD
END:VEVENT
BEGIN:VEVENT
DTSTART;TZID=America/New_York:20260602T170000
DTEND;TZID=America/New_York:20260602T190000
DTSTAMP:20260425T074754
CREATED:20260305T185858Z
LAST-MODIFIED:20260317T210358Z
UID:10001463-1780419600-1780426800@mcbia.org
SUMMARY:Conjunction Junction
DESCRIPTION:Companies host social gathering to showcase their business; they can provide door prizes\, food and beverages\, in a relaxed atmosphere
URL:https://mcbia.org/event/conjunction-junction-28/
LOCATION:TBD
END:VEVENT
END:VCALENDAR